BEGIN:VCALENDAR
VERSION:2.0
CALSCALE:GREGORIAN
PRODID:adamgibbons/ics
METHOD:PUBLISH
X-PUBLISHED-TTL:PT1H
BEGIN:VEVENT
UID:687@sprachtreffen.de
SUMMARY:Adrian Tchaikovsky: Alien Clay – book reading and talk
DTSTAMP:20260420T083731Z
DTSTART:20251017T083000Z
DTEND:20251017T100000Z
DESCRIPTION:This month is apparently SciFi month\; we are reading Alien Cla
	y by Adrian\nTchaikovsky:\n\nThe Book: Adrian Tchaikovsky [https://amzn.to
	/3Vs6daf] – Alien Clay\n[https://amzn.to/4nO8BUY]\nWikipedia [https://en.w
	ikipedia.org/wiki/Alien_Clay]\n\n\nMORNING MEETUP\n\n \n\n\nHEIDELBERG ENG
	LISH SPEAKING BOOKCLUB\n\nSee all events in our group\n[https://rheinnecka
	r.events/@the_boisterous_bookclub]\n\nSource on rheinneckar.events\n[https
	://rheinneckar.events/events/76dd7305-b6ae-4b83-b468-12fc1ffcc931]\n\nBasi
	c premise: we read a book and then we get together to talk about it.\nWe m
	eet once a month and aim to cover a whole variety of genres (as long as th
	e\nbook is fiction\, under 300 pages\, and generally accessible).\nWe are 
	very open to suggestions for future books.\n\n—\n\nkeywords: book club\, r
	eading
URL:https://sprachtreffen.de/event/adrian-tchaikovsky-alien-clay-book-readi
	ng-and-talk
GEO:49.4078;8.69391
LOCATION:Deutsch-Amerikanisches Institut DAI - Sofienstraße 12\, Heidelberg
	\, Baden-Württemberg\, 69115\, Rhein-Neckar\, Deutschland
STATUS:CONFIRMED
CATEGORIES:Books,BW,englisch
X-ALT-DESC;FMTTYPE=text/html:<p>This month is apparently SciFi month; we ar
	e reading Alien Clay by Adrian Tchaikovsky:</p><p>The Book: <a href="https
	://amzn.to/3Vs6daf" target="_blank">Adrian Tchaikovsky</a> – <a href="http
	s://amzn.to/4nO8BUY" target="_blank">Alien Clay</a><br><a href="https://en
	.wikipedia.org/wiki/Alien_Clay" target="_blank">Wikipedia</a></p><h3>Morni
	ng Meetup</h3><p>&nbsp;</p><h2>Heidelberg English Speaking Bookclub</h2><p
	>See all <a href="https://rheinneckar.events/@the_boisterous_bookclub" tar
	get="_blank">events in our group</a></p><p>Source on <a href="https://rhei
	nneckar.events/events/76dd7305-b6ae-4b83-b468-12fc1ffcc931" target="_blank
	">rheinneckar.events</a></p><p>Basic premise: we read a book and then we g
	et together to talk about it.<br>We meet once a month and aim to cover a w
	hole variety of genres (as long as the book is fiction, under 300 pages, a
	nd generally accessible).<br>We are very open to suggestions for future bo
	oks.</p><p>—</p><p>keywords: book club, reading</p>
BEGIN:VALARM
ACTION:DISPLAY
DESCRIPTION:Adrian Tchaikovsky: Alien Clay – book reading and talk
TRIGGER:-PT1H
END:VALARM
END:VEVENT
END:VCALENDAR
