BEGIN:VCALENDAR
VERSION:2.0
CALSCALE:GREGORIAN
PRODID:adamgibbons/ics
METHOD:PUBLISH
X-PUBLISHED-TTL:PT1H
BEGIN:VEVENT
UID:2361@sprachtreffen.de
SUMMARY:Café Colibri - Deutsch sprechen online
DTSTAMP:20260423T114511Z
DTSTART:20260428T160000Z
DTEND:20260428T170000Z
DESCRIPTION:Das Sprachcafé der Stadtbibliothek Mannheim\, um locker miteina
	nder Deutsch zu\nsprechen.\n\nDieses Café findet online statt. Wer nicht i
	n die Bibliothek teilnehmen möchte\noder kann\, macht einfach hier mit – k
	ostenlos.\n\nDas Sprachcafé online findet dienstags um 18 Uhr statt. Ein T
	reffen dauert ca.\n60 Minuten.\n\nWichtig: Bitte anmelden. Die Zahl der Te
	ilnehmenden ist begrenzt.\n\nPer E-Mail stadtbibliothek.zentralbibliothek(
	at)mannheim.de [http://mannheim.de]\noder 0621 293 8935. Dann wird ein Lin
	k für die Teilnahme verschickt.\n\nQuelle:\nhttps://www.mannheim.de/de/ver
	anstaltung/cafe-colibri-deutsch-sprechen-online-1\n[https://www.mannheim.d
	e/de/veranstaltung/cafe-colibri-deutsch-sprechen-online-1]
URL:https://sprachtreffen.de/event/cafe-colibri-deutsch-sprechen-online-2
LOCATION:online - https://www.mannheim.de/de/veranstaltung/cafe-colibri-deu
	tsch-sprechen-online-1
STATUS:CONFIRMED
CATEGORIES:deutsch,online
X-ALT-DESC;FMTTYPE=text/html:<p>Das Sprachcafé der Stadtbibliothek Mannheim
	, um locker miteinander Deutsch zu sprechen.</p><p>Dieses Café findet <str
	ong><u>online</u></strong> statt. Wer nicht in die Bibliothek teilnehmen m
	öchte oder kann, macht einfach hier mit&nbsp;– <strong>kostenlos</strong>.
	</p><p>Das Sprachcafé online findet dienstags um 18 Uhr statt. Ein Treffen
	 dauert ca. 60 Minuten.</p><p>Wichtig: <strong>Bitte anmelden</strong>. Di
	e Zahl der Teilnehmenden ist begrenzt.</p><p>Per E-Mail stadtbibliothek.ze
	ntralbibliothek(at)<a href="http://mannheim.de" target="_blank">mannheim.d
	e</a> oder 0621 293 8935. Dann wird ein Link für die Teilnahme verschickt.
	</p><p>Quelle: <a href="https://www.mannheim.de/de/veranstaltung/cafe-coli
	bri-deutsch-sprechen-online-1" target="_blank">https://www.mannheim.de/de/
	veranstaltung/cafe-colibri-deutsch-sprechen-online-1</a></p>
BEGIN:VALARM
ACTION:DISPLAY
DESCRIPTION:Café Colibri - Deutsch sprechen online
TRIGGER:-PT1H
END:VALARM
END:VEVENT
END:VCALENDAR
