BEGIN:VCALENDAR
VERSION:2.0
CALSCALE:GREGORIAN
PRODID:adamgibbons/ics
METHOD:PUBLISH
X-PUBLISHED-TTL:PT1H
BEGIN:VEVENT
UID:1824@sprachtreffen.de
SUMMARY:Café Colibri für Frauen (Mannheim)
DTSTAMP:20260420T100634Z
DTSTART:20260318T100000Z
DTEND:20260318T110000Z
DESCRIPTION:Das Café Colibri für weiblich gelesene Menschen (Frauen) bietet
	 ausschließlich\nfür Teilnehmerinnen einen Rahmen zum Austausch und gemein
	samen Deutschsprechen.\n\nWann? Einmal im Monat\, mittwochs von 11 bis 12 
	Uhr.\nWo? Zentralbibliothek im Stadthaus N1\, 1. Obergeschoss.\nDie Startt
	ermine: 15. Oktober und 19. November.\n\nDie Teilnahme für alle Veranstalt
	ungen ist kostenlos\, eine Anmeldung nicht\nnotwendig.\n\nBei allen Angebo
	ten steht weiterhin im Vordergrund\, miteinander Deutsch zu\nsprechen und 
	dabei neue Leute kennenzulernen.\nDas Café ist kein Ersatz für einen Sprac
	hkurs.\n\nQuelle: mannheim.de/de/presse/neue-formate-beim-sprachcafe-cafe-
	colibri\n[https://www.mannheim.de/de/presse/neue-formate-beim-sprachcafe-c
	afe-colibri]\n\n###\n\nCAFÉ COLIBRI\nDAS SPRACHCAFÉ DER STADTBIBLIOTHEK MA
	NNHEIM\n\n\nEs ist keine Anmeldung nötig.\nBei Fragen kann man sich hier m
	elden: per E-Mail unter:\nstadtbibliothek.zentralbibliothek @ mannheim.de 
	[http://mannheim.de] oder per\nTelefon: 0621 / 293 8935.\n\nQuelle: mannhe
	im.de\n[https://www.mannheim.de/de/bildung-staerken/stadtbibliothek/colibr
	i-das-interkulturelle-angebot]
URL:https://sprachtreffen.de/event/cafe-colibri-fur-frauen-mannheim-1
GEO:49.4863;8.46556
LOCATION:Zentralbibliothek im Stadthaus - N 1\, Stadthaus\, Mannheim\, Bade
	n-Württemberg\, 68161\, Rhein-Neckar\, Deutschland
STATUS:CONFIRMED
CATEGORIES:BW,deutsch
X-ALT-DESC;FMTTYPE=text/html:<p>Das Café Colibri für weiblich gelesene Mens
	chen (Frauen) bietet ausschließlich für Teilnehmerinnen einen Rahmen zum A
	ustausch und gemeinsamen Deutschsprechen.</p><p>Wann? Einmal im Monat, mit
	twochs von 11 bis 12 Uhr.<br>Wo? Zentralbibliothek im Stadthaus N1, 1. Obe
	rgeschoss.<br>Die Starttermine: 15. Oktober und 19. November.</p><p>Die Te
	ilnahme für alle Veranstaltungen ist kostenlos, eine Anmeldung nicht notwe
	ndig.</p><p>Bei allen Angeboten steht weiterhin im Vordergrund, miteinande
	r Deutsch zu sprechen und dabei neue Leute kennenzulernen. <br>Das Café is
	t kein Ersatz für einen Sprachkurs.</p><p>Quelle: <a href="https://www.man
	nheim.de/de/presse/neue-formate-beim-sprachcafe-cafe-colibri" target="_bla
	nk">mannheim.de/de/presse/neue-formate-beim-sprachcafe-cafe-colibri</a></p
	><p>###</p><h4><strong>Café Colibri<br>das Sprachcafé der Stadtbibliothek 
	Mannheim</strong></h4><p><br><strong>Es ist keine Anmeldung nötig.<br></st
	rong>Bei Fragen kann man sich hier melden: per E-Mail unter: stadtbiblioth
	ek.zentralbibliothek @ <a href="http://mannheim.de" target="_blank">mannhe
	im.de</a> oder per Telefon: 0621 / 293 8935.</p><p>Quelle: <a href="https:
	//www.mannheim.de/de/bildung-staerken/stadtbibliothek/colibri-das-interkul
	turelle-angebot" target="_blank">mannheim.de</a></p>
BEGIN:VALARM
ACTION:DISPLAY
DESCRIPTION:Café Colibri für Frauen (Mannheim)
TRIGGER:-PT1H
END:VALARM
END:VEVENT
END:VCALENDAR
