BEGIN:VCALENDAR
VERSION:2.0
CALSCALE:GREGORIAN
PRODID:adamgibbons/ics
METHOD:PUBLISH
X-PUBLISHED-TTL:PT1H
BEGIN:VEVENT
UID:2305@sprachtreffen.de
SUMMARY:Café Colibri für Frauen (Mannheim)
DTSTAMP:20260423T083805Z
DTSTART:20260520T090000Z
DTEND:20260520T100000Z
DESCRIPTION:Das Café Colibri für weiblich gelesene Menschen (Frauen) bietet
	 ausschließlich\nfür Teilnehmerinnen einen Rahmen zum Austausch und gemein
	samen Deutschsprechen.\n\nWann? jeden dritten Mittwoch im Monat\, von 11 b
	is 12 Uhr.\nWo? Zentralbibliothek im Stadthaus N1\, 1. Obergeschoss.\nDie 
	Teilnahme an allen Veranstaltungen ist kostenlos\, eine Anmeldung ist nich
	t\nnotwendig.\n\nBei allen Angeboten steht weiterhin im Vordergrund\, mite
	inander Deutsch zu\nsprechen und dabei neue Leute kennenzulernen.\nDas Caf
	é ist kein Ersatz für einen Sprachkurs.\n\nQuelle: mannheim.de/de/presse/n
	eue-formate-beim-sprachcafe-cafe-colibri\n[https://www.mannheim.de/de/pres
	se/neue-formate-beim-sprachcafe-cafe-colibri]\n\nhttps://www.mannheim.de/d
	e/veranstaltung/cafe-colibri-deutsch-sprechen-fuer-frauen-0\n[https://www.
	mannheim.de/de/veranstaltung/cafe-colibri-deutsch-sprechen-fuer-frauen-0]\
	n\n###\n\nCAFÉ COLIBRI\nDAS SPRACHCAFÉ DER STADTBIBLIOTHEK MANNHEIM\n\n\nE
	s ist keine Anmeldung nötig.\nBei Fragen kann man sich hier melden: per E-
	Mail unter\nstadtbibliothek.zentralbibliothek @ mannheim.de [http://mannhe
	im.de] oder per\nTelefon: 0621 / 293 8935.\n\nQuelle: mannheim.de\n[https:
	//www.mannheim.de/de/bildung-staerken/stadtbibliothek/colibri-das-interkul
	turelle-angebot]
URL:https://sprachtreffen.de/event/cafe-colibri-fur-frauen-mannheim-3
GEO:49.4863;8.46556
LOCATION:Zentralbibliothek im Stadthaus - N 1\, Stadthaus\, Mannheim\, Bade
	n-Württemberg\, 68161\, Rhein-Neckar\, Deutschland
STATUS:CONFIRMED
CATEGORIES:BW,deutsch
X-ALT-DESC;FMTTYPE=text/html:<p>Das Café Colibri für weiblich gelesene Mens
	chen (Frauen) bietet ausschließlich für Teilnehmerinnen einen Rahmen zum A
	ustausch und gemeinsamen Deutschsprechen.</p><p>Wann? <strong>jeden dritte
	n Mittwoch im Monat</strong>, von 11 bis 12 Uhr.<br>Wo? Zentralbibliothek 
	im Stadthaus N1, 1. Obergeschoss.<br>Die Teilnahme an allen Veranstaltunge
	n ist kostenlos, eine Anmeldung ist nicht notwendig.</p><p>Bei allen Angeb
	oten steht weiterhin im Vordergrund, miteinander Deutsch zu sprechen und d
	abei neue Leute kennenzulernen. <br>Das Café ist kein Ersatz für einen Spr
	achkurs.</p><p>Quelle: <a href="https://www.mannheim.de/de/presse/neue-for
	mate-beim-sprachcafe-cafe-colibri" target="_blank">mannheim.de/de/presse/n
	eue-formate-beim-sprachcafe-cafe-colibri</a></p><p><a href="https://www.ma
	nnheim.de/de/veranstaltung/cafe-colibri-deutsch-sprechen-fuer-frauen-0" ta
	rget="_blank">https://www.mannheim.de/de/veranstaltung/cafe-colibri-deutsc
	h-sprechen-fuer-frauen-0</a></p><p>###</p><h4><strong>Café Colibri<br>das 
	Sprachcafé der Stadtbibliothek Mannheim</strong></h4><p><br><strong>Es ist
	 keine Anmeldung nötig.<br></strong>Bei Fragen kann man sich hier melden: 
	per E-Mail unter stadtbibliothek.zentralbibliothek @ <a href="http://mannh
	eim.de" target="_blank">mannheim.de</a> oder per Telefon: 0621 / 293 8935.
	</p><p>Quelle: <a href="https://www.mannheim.de/de/bildung-staerken/stadtb
	ibliothek/colibri-das-interkulturelle-angebot" target="_blank">mannheim.de
	</a></p>
BEGIN:VALARM
ACTION:DISPLAY
DESCRIPTION:Café Colibri für Frauen (Mannheim)
TRIGGER:-PT1H
END:VALARM
END:VEVENT
END:VCALENDAR
