BEGIN:VCALENDAR
VERSION:2.0
CALSCALE:GREGORIAN
PRODID:adamgibbons/ics
METHOD:PUBLISH
X-PUBLISHED-TTL:PT1H
BEGIN:VEVENT
UID:2013@sprachtreffen.de
SUMMARY:Café Colibri für medizinische Berufe (Mannheim)
DTSTAMP:20260423T083805Z
DTSTART:20260408T150000Z
DTEND:20260408T160000Z
DESCRIPTION:Gerade im medizinischen Bereich besteht ein großer Bedarf an fa
	chbezogenen\nDeutschkenntnissen. Das Café Colibri für medizinische Berufe 
	heißt angehende\noder bereits aktive Pflegekräfte\, Apotheker:innen\, Ärzt
	innen und Ärzt\nwillkommen.\n\nWann? Jeden zweiten Mittwoch im Monat\, 17 
	bis 18 Uhr\nWo? Zentralbibliothek im Stadthaus N1\, 1. OG\n\nDer Startterm
	in: 8. Oktober.\n\nQuelle: mannheim.de/de/presse/neue-formate-beim-sprachc
	afe-cafe-colibri\n[https://www.mannheim.de/de/presse/neue-formate-beim-spr
	achcafe-cafe-colibri]\n\n###\n\nCAFÉ COLIBRI\nDAS SPRACHCAFÉ DER STADTBIBL
	IOTHEK MANNHEIM\n\n\nEs ist keine Anmeldung nötig.\nBei Fragen kann man si
	ch hier melden: per E-Mail unter:\nstadtbibliothek.zentralbibliothek @ man
	nheim.de [http://mannheim.de] oder per\nTelefon: 0621 / 293 8935.\n\nQuell
	e: mannheim.de\n[https://www.mannheim.de/de/bildung-staerken/stadtbiblioth
	ek/colibri-das-interkulturelle-angebot]\n\n\n\n\n\n\n\n
URL:https://sprachtreffen.de/event/cafe-colibri-fur-medizinische-berufe-man
	nheim-1
GEO:49.4863;8.46556
LOCATION:Zentralbibliothek im Stadthaus - N 1\, Stadthaus\, Mannheim\, Bade
	n-Württemberg\, 68161\, Rhein-Neckar\, Deutschland
STATUS:CONFIRMED
CATEGORIES:BW,deutsch
X-ALT-DESC;FMTTYPE=text/html:<p>Gerade im medizinischen Bereich besteht ein
	 großer Bedarf an fachbezogenen Deutschkenntnissen. Das Café Colibri für m
	edizinische Berufe heißt angehende oder bereits aktive Pflegekräfte, Apoth
	eker:innen, Ärztinnen und Ärzt willkommen.</p><p>Wann? Jeden zweiten Mittw
	och im Monat, 17 bis 18 Uhr<br>Wo? Zentralbibliothek im Stadthaus N1, 1. O
	G</p><p>Der Starttermin: 8. Oktober.</p><p>Quelle: <a href="https://www.ma
	nnheim.de/de/presse/neue-formate-beim-sprachcafe-cafe-colibri" target="_bl
	ank">mannheim.de/de/presse/neue-formate-beim-sprachcafe-cafe-colibri</a></
	p><p>###</p><h4><strong>Café Colibri<br>das Sprachcafé der Stadtbibliothek
	 Mannheim</strong></h4><p><br><strong>Es ist keine Anmeldung nötig.<br></s
	trong>Bei Fragen kann man sich hier melden: per E-Mail unter: stadtbibliot
	hek.zentralbibliothek @ <a href="http://mannheim.de" target="_blank">mannh
	eim.de</a> oder per Telefon: 0621 / 293 8935.</p><p>Quelle: <a href="https
	://www.mannheim.de/de/bildung-staerken/stadtbibliothek/colibri-das-interku
	lturelle-angebot" target="_blank">mannheim.de</a></p><p></p><p></p><p></p>
	<p></p>
BEGIN:VALARM
ACTION:DISPLAY
DESCRIPTION:Café Colibri für medizinische Berufe (Mannheim)
TRIGGER:-PT1H
END:VALARM
END:VEVENT
END:VCALENDAR
