BEGIN:VCALENDAR
VERSION:2.0
CALSCALE:GREGORIAN
PRODID:adamgibbons/ics
METHOD:PUBLISH
X-PUBLISHED-TTL:PT1H
BEGIN:VEVENT
UID:2327@sprachtreffen.de
SUMMARY:Café Colibri – Sprachcafé (Mannheim)
DTSTAMP:20260423T084655Z
DTSTART:20260423T150000Z
DTEND:20260423T160000Z
DESCRIPTION:CAFÉ COLIBRI\nDAS SPRACHCAFÉ DER STADTBIBLIOTHEK MANNHEIM\n\n\n
	\nMenschen aus verschiedenen Kulturkreisen können hier in lockerer Atmosph
	äre\nmiteinander Deutsch sprechen.\nDas Alter und die soziale Herkunft sin
	d egal – alle können mitmachen.\n\nEs wird über viele verschiedene Themen 
	gesprochen. Zum Beispiel über die\nFamilie\, Feste oder Hobbys. Fragen und
	 Vorschläge sind immer willkommen.\nEs gibt keine politischen und ideologi
	schen Diskussionen.\n\nDas Café ist kein Ersatz für einen Sprachkurs.\nDie
	 Teilnahme ist kostenlos und ohne Anmeldung.\n\nEin Treffen dauert ca. 60 
	Minuten. Das Café findet im 1. OG der\nZentralbibliothek im Stadthaus N1 s
	tatt. Es ist keine Anmeldung nötig.\n\nBei Fragen kann man sich hier melde
	n: per E-Mail unter:\nstadtbibliothek.zentralbibliothek @ mannheim.de [htt
	p://mannheim.de] oder per\nTelefon: 0621 / 293 8935.\n\nFür alle\, die nic
	ht vor Ort dabei sein können\, gibt es regelmäßig ein Sprachcafé\nColibri 
	Online\n[https://www.mannheim.de/de/bildung-staerken/stadtbibliothek/colib
	ri-das-interkulturelle-angebot/cafe-colibri-online].\n\nQuelle: mannheim.d
	e\n[https://www.mannheim.de/de/bildung-staerken/stadtbibliothek/colibri-da
	s-interkulturelle-angebot]\n\nhttps://www.mannheim.de/de/veranstaltung/caf
	e-colibri-deutsch-sprechen-in-der-zentralbibliothek-0\n[https://www.mannhe
	im.de/de/veranstaltung/cafe-colibri-deutsch-sprechen-in-der-zentralbibliot
	hek-0]
URL:https://sprachtreffen.de/event/cafe-colibri-sprachcafe-mannheim-12
GEO:49.4863;8.46556
LOCATION:Zentralbibliothek im Stadthaus - N 1\, Stadthaus\, Mannheim\, Bade
	n-Württemberg\, 68161\, Rhein-Neckar\, Deutschland
STATUS:CONFIRMED
CATEGORIES:BW,deutsch
X-ALT-DESC;FMTTYPE=text/html:<h4><strong>Café Colibri<br>das Sprachcafé der
	 Stadtbibliothek Mannheim</strong></h4><p></p><p>Menschen aus verschiedene
	n Kulturkreisen können hier in lockerer Atmosphäre miteinander Deutsch spr
	echen.<br>Das Alter und die soziale Herkunft sind egal – <strong>alle könn
	en mitmachen</strong>.</p><p>Es wird über viele verschiedene Themen gespro
	chen. Zum Beispiel über die Familie, Feste oder Hobbys. Fragen und Vorschl
	äge sind immer willkommen.<br>Es gibt <strong>keine</strong> politischen u
	nd ideologischen Diskussionen.</p><p>Das Café ist kein Ersatz für einen Sp
	rachkurs.<br>Die Teilnahme ist <strong>kostenlos</strong> und ohne Anmeldu
	ng.</p><p>Ein Treffen dauert ca. 60 Minuten. Das Café findet im 1. OG der 
	Zentralbibliothek im Stadthaus N1 statt. <strong>Es ist keine Anmeldung nö
	tig.</strong></p><p>Bei Fragen kann man sich hier melden: per E-Mail unter
	: stadtbibliothek.zentralbibliothek @ <a href="http://mannheim.de" target=
	"_blank">mannheim.de</a> oder per Telefon: 0621 / 293 8935.</p><p>Für alle
	, die nicht vor Ort dabei sein können, gibt es regelmäßig ein <a href="htt
	ps://www.mannheim.de/de/bildung-staerken/stadtbibliothek/colibri-das-inter
	kulturelle-angebot/cafe-colibri-online" target="_blank"><strong>Sprachcafé
	 Colibri Online</strong></a>.</p><p>Quelle: <a href="https://www.mannheim.
	de/de/bildung-staerken/stadtbibliothek/colibri-das-interkulturelle-angebot
	" target="_blank">mannheim.de</a></p><p><a href="https://www.mannheim.de/d
	e/veranstaltung/cafe-colibri-deutsch-sprechen-in-der-zentralbibliothek-0" 
	target="_blank">https://www.mannheim.de/de/veranstaltung/cafe-colibri-deut
	sch-sprechen-in-der-zentralbibliothek-0</a></p>
BEGIN:VALARM
ACTION:DISPLAY
DESCRIPTION:Café Colibri – Sprachcafé (Mannheim)
TRIGGER:-PT1H
END:VALARM
END:VEVENT
END:VCALENDAR
