BEGIN:VCALENDAR
VERSION:2.0
CALSCALE:GREGORIAN
PRODID:adamgibbons/ics
METHOD:PUBLISH
X-PUBLISHED-TTL:PT1H
BEGIN:VEVENT
UID:1823@sprachtreffen.de
SUMMARY:Café Colibri – Sprachcafé Rheinau
DTSTAMP:20260420T100406Z
DTSTART:20260317T150000Z
DTEND:20260317T160000Z
DESCRIPTION:CAFÉ COLIBRI\nDAS SPRACHCAFÉ DER STADTBIBLIOTHEK MANNHEIM\n\n\n
	\nMenschen aus verschiedenen Kulturkreisen können hier in lockerer Atmosph
	äre\nmiteinander Deutsch sprechen.\nDas Alter und die soziale Herkunft sin
	d egal – alle können mitmachen.\n\nEs wird über viele verschiedene Themen 
	gesprochen. Zum Beispiel über die\nFamilie\, Feste oder Hobbys. Fragen und
	 Vorschläge sind immer willkommen.\nPolitische und ideologische Diskussion
	en finden nicht statt.\n\nDas Café ist kein Ersatz für einen Sprachkurs.\n
	Die Teilnahme ist kostenlos.\n\nJeden dritten Dienstag im Monat. Ein Treff
	en dauert ca. 60 Minuten. Das Café\nfindet in der Zweigstelle Rheinau stat
	t. Es ist keine Anmeldung nötig.\n\nBei Fragen kann man sich hier melden: 
	per E-Mail unter stadtbibliothek.rheinau @\nmannheim.de [http://mannheim.d
	e] oder per Telefon: 0621 8710253.\n\nFür alle\, die nicht vor Ort dabei s
	ein können\, gibt es regelmäßig ein Sprachcafé\nColibri Online\n[https://w
	ww.mannheim.de/de/bildung-staerken/stadtbibliothek/colibri-das-interkultur
	elle-angebot/cafe-colibri-online].\n\nQuelle: mannheim.de\n[https://www.ma
	nnheim.de/de/bildung-staerken/stadtbibliothek/colibri-das-interkulturelle-
	angebot]
URL:https://sprachtreffen.de/event/cafe-colibri-sprachcafe-rheinau-6
GEO:49.4417;8.52394
LOCATION:Stadtteilbibliothek Rheinau - Kronenburgstraße 45-55\, Mannheim\, 
	Baden-Württemberg\, 68219\, Rhein-Neckar\, Deutschland
STATUS:CONFIRMED
CATEGORIES:BW,deutsch
X-ALT-DESC;FMTTYPE=text/html:<h4><strong>Café Colibri<br>das Sprachcafé der
	 Stadtbibliothek Mannheim</strong></h4><p></p><p>Menschen aus verschiedene
	n Kulturkreisen können hier in lockerer Atmosphäre miteinander Deutsch spr
	echen.<br>Das Alter und die soziale Herkunft sind egal – <strong>alle könn
	en mitmachen</strong>.</p><p>Es wird über viele verschiedene Themen gespro
	chen. Zum Beispiel über die Familie, Feste oder Hobbys. Fragen und Vorschl
	äge sind immer willkommen.<br>Politische und ideologische Diskussionen fin
	den nicht statt.</p><p>Das Café ist kein Ersatz für einen Sprachkurs.<br>D
	ie Teilnahme ist <strong>kostenlos</strong>.</p><p>Jeden dritten Dienstag 
	im Monat. Ein Treffen dauert ca. 60 Minuten. Das Café findet in der Zweigs
	telle Rheinau statt. <strong>Es ist keine Anmeldung nötig</strong>.</p><p>
	Bei Fragen kann man sich hier melden: per E-Mail unter stadtbibliothek.rhe
	inau @ <a href="http://mannheim.de" target="_blank">mannheim.de</a> oder p
	er Telefon: 0621 8710253.</p><p>Für alle, die nicht vor Ort dabei sein kön
	nen, gibt es regelmäßig ein <a href="https://www.mannheim.de/de/bildung-st
	aerken/stadtbibliothek/colibri-das-interkulturelle-angebot/cafe-colibri-on
	line" target="_blank"><strong>Sprachcafé Colibri Online</strong></a>.</p><
	p>Quelle: <a href="https://www.mannheim.de/de/bildung-staerken/stadtbiblio
	thek/colibri-das-interkulturelle-angebot" target="_blank">mannheim.de</a><
	/p>
BEGIN:VALARM
ACTION:DISPLAY
DESCRIPTION:Café Colibri – Sprachcafé Rheinau
TRIGGER:-PT1H
END:VALARM
END:VEVENT
END:VCALENDAR
