BEGIN:VCALENDAR
VERSION:2.0
CALSCALE:GREGORIAN
PRODID:adamgibbons/ics
METHOD:PUBLISH
X-PUBLISHED-TTL:PT1H
BEGIN:VEVENT
UID:2182@sprachtreffen.de
SUMMARY:Café français - Dt.-frz. Stammtisch
DTSTAMP:20260420T122647Z
DTSTART:20260428T170000Z
DTEND:20260428T193000Z
DESCRIPTION:Wie jeden letzten Dienstag im Monat um 19 Uhr lädt die Deutsch-
	Französische\nGesellschaft Duisburg e.V. zum Café français ein.\n\nHier kö
	nnen Frankophile wie Frankophone miteinander ins Gespräch kommen.\n\nSie e
	rkennen uns an dem kleinen französischen Fähnchen. Herzlich willkommen!\n\
	nComme chaque dernier mardi du mois à 19 h la DFG vous invite à rencontrer
	\nd’autres francophiles et francophones. Bienvenue !\n\nAuf deutsch ou en 
	français\, wie Sie möchten\, comme vous voulez…\n\nOrganisation: Jürgen Do
	nat\, N.N.\, Anmeldung erbeten: info@voila-duisburg.de\n[info@voila-duisbu
	rg.de]
URL:https://sprachtreffen.de/event/cafe-francais-dt-frz-stammtisch-5
GEO:51.4303;6.76802
LOCATION:Café Museum (Restaurant Café\, Biergarten) - Friedrich-Wilhelm-Str
	. 64\, Duisburg\, NRW\, 47051\, Deutschland
STATUS:CONFIRMED
CATEGORIES:deutsch,französisch,NRW
X-ALT-DESC;FMTTYPE=text/html:<p>Wie jeden letzten Dienstag im Monat um 19 U
	hr lädt die Deutsch-Französische Gesellschaft Duisburg e.V. zum Café franç
	ais ein.</p><p>Hier können Frankophile wie Frankophone miteinander ins Ges
	präch kommen.</p><p>Sie erkennen uns an dem kleinen französischen Fähnchen
	. Herzlich willkommen!</p><p>Comme chaque dernier mardi du mois à 19 h la 
	DFG vous invite à rencontrer d’autres francophiles et francophones. Bienve
	nue !</p><p>Auf deutsch ou en français, wie Sie möchten, comme vous voulez
	…</p><p>Organisation: Jürgen Donat, N.N., Anmeldung erbeten: <a href="mail
	to:info@voila-duisburg.de" target="_blank">info@voila-duisburg.de</a></p>
BEGIN:VALARM
ACTION:DISPLAY
DESCRIPTION:Café français - Dt.-frz. Stammtisch
TRIGGER:-PT1H
END:VALARM
END:VEVENT
END:VCALENDAR
