BEGIN:VCALENDAR
VERSION:2.0
CALSCALE:GREGORIAN
PRODID:adamgibbons/ics
METHOD:PUBLISH
X-PUBLISHED-TTL:PT1H
BEGIN:VEVENT
UID:1761@sprachtreffen.de
SUMMARY:Café français en route (Dt.-frz. Stammtisch)
DTSTAMP:20260420T100633Z
DTSTART:20260310T180000Z
DTEND:20260310T200000Z
DESCRIPTION:LEITUNG: INES LEFFERS\n\nJeden zweiten Dienstag im Monat um 19 
	Uhr lädt die DFG Duisburg zum Café\nfrançais in Krefeld ein.\n\nHier könne
	n Frankophile wie Frankophone miteinander ins Gespräch kommen.\nHerzlich w
	illkommen!\n\nChaque deuxième mardi du mois à 19 h la DFG vous invite à re
	ncontrer d’autres\nfrancophiles et francophones. Bienvenue !\n\nAuf deutsc
	h ou en français\, wie Sie möchten\, comme vous voulez…\n\nAnmeldung erbet
	en:  info@voila-duisburg.de [info@voila-duisburg.de]
URL:https://sprachtreffen.de/event/cafe-francais-en-route-dt-frz-stammtisch
	-2
LOCATION:Restaurant "Die Kulisse" - Virchowstr. 130\, 47805 Krefeld
STATUS:CONFIRMED
CATEGORIES:deutsch,französisch,NRW
X-ALT-DESC;FMTTYPE=text/html:<h2><strong>Leitung: Ines Leffers</strong></h2
	><p>Jeden zweiten Dienstag im Monat um 19 Uhr lädt die DFG Duisburg zum Ca
	fé français in Krefeld ein.</p><p>Hier können Frankophile wie Frankophone 
	miteinander ins Gespräch kommen. Herzlich willkommen!</p><p>Chaque deuxièm
	e mardi du mois à 19 h la DFG vous invite à rencontrer d’autres francophil
	es et francophones. Bienvenue !</p><p>Auf deutsch ou en français, wie Sie 
	möchten, comme vous voulez…</p><p>Anmeldung erbeten: &nbsp;<a href="mailto
	:info@voila-duisburg.de" target="_blank">info@voila-duisburg.de</a></p>
BEGIN:VALARM
ACTION:DISPLAY
DESCRIPTION:Café français en route (Dt.-frz. Stammtisch)
TRIGGER:-PT1H
END:VALARM
END:VEVENT
END:VCALENDAR
