BEGIN:VCALENDAR
VERSION:2.0
CALSCALE:GREGORIAN
PRODID:adamgibbons/ics
METHOD:PUBLISH
X-PUBLISHED-TTL:PT1H
BEGIN:VEVENT
UID:2197@sprachtreffen.de
SUMMARY:Interkultureller Mittagstisch (Innsbruck)
DTSTAMP:20260420T101213Z
DTSTART:20260409T100000Z
DTEND:20260409T113000Z
DESCRIPTION:Der Interkulturelle Mittagstisch ist Teil des Sprach- und Integ
	rationprogramms\n“Deutsch als FreundInsprache”. Wöchentlich kochen Teilneh
	merInnen aus der\nDeutschlerngruppe gemeinsam mit Freiwilligen Gerichte au
	s ihren\nHerkunftsländern. \n\nBeim Kochen lernen die TeilnehmerInnen neue
	 Begriffe aus der Küche kennen\,\nerfahren mehr zu den Themen Nachhaltigke
	it\, Mülltrennung\, Lebensmittelverwertung\nund Gemüseanbau.\n\nNach dem S
	prachtraining wird das Lokal für den Mittagstisch vorbereitet. Sobald\nsic
	h das Lokal mit Gästen füllt\, können sich die TeilnehmerInnen niederschwe
	llig\nmit den Gästen austauschen. Der Interkulturelle Mittagstisch bietet 
	somit eine\nideale Gelegenheit für ungezwungenen Austausch und eine angene
	hme Möglichkeit\,\nmit Menschen in Kontakt zu kommen.\n\nWas: Gerichte aus
	 den Herkunftsländern der aktuellen Deutschlerngruppe. Menü\nimmer diensta
	gs auf Facebook [https://www.facebook.com/bzwlernen]und Instagram\n[https:
	//www.instagram.com/beziehungsweiselernen/]\n\nWo: Innstraße 2\, 6020 Inns
	bruck (Verein Beziehungsweise Lernen)\n\nWann: jeden Donnerstag von 12 – 1
	3:30 Uhr\n\nKosten: 9 € Wertschätzungsbeitrag für Speisen & 1\,5 € für Kaf
	fee und 1 € für Tee\n\nQuelle: https://beziehungsweise-lernen.info/interku
	ltureller-mittagstisch/\n[https://beziehungsweise-lernen.info/interkulture
	ller-mittagstisch/]
URL:https://sprachtreffen.de/event/interkultureller-mittagstisch-innsbruck-
	10
GEO:47.2711;11.3919
LOCATION:Verein Beziehungsweise Lernen - Innstraße 2\, Sankt Nikolaus\, 602
	0 Innsbruck\, Tirol\, Österreich
STATUS:CONFIRMED
CATEGORIES:deutsch,Österreich
X-ALT-DESC;FMTTYPE=text/html:<p>Der Interkulturelle Mittagstisch ist Teil d
	es Sprach- und Integrationprogramms “Deutsch als FreundInsprache”. Wöchent
	lich kochen TeilnehmerInnen aus der Deutschlerngruppe gemeinsam mit Freiwi
	lligen Gerichte aus ihren Herkunftsländern.&nbsp;</p><p>Beim Kochen lernen
	 die TeilnehmerInnen neue Begriffe aus der Küche kennen, erfahren mehr zu 
	den Themen Nachhaltigkeit, Mülltrennung, Lebensmittelverwertung und Gemüse
	anbau.</p><p>Nach dem Sprachtraining wird das Lokal für den Mittagstisch v
	orbereitet. Sobald sich das Lokal mit Gästen füllt, können sich die Teilne
	hmerInnen niederschwellig mit den Gästen austauschen. Der Interkulturelle 
	Mittagstisch bietet somit eine ideale Gelegenheit für ungezwungenen Austau
	sch und eine angenehme Möglichkeit, mit Menschen in Kontakt zu kommen.</p>
	<p><strong>Was: </strong>Gerichte aus den Herkunftsländern der aktuellen D
	eutschlerngruppe. Menü immer dienstags auf <a href="https://www.facebook.c
	om/bzwlernen" target="_blank">Facebook </a>und <a href="https://www.instag
	ram.com/beziehungsweiselernen/" target="_blank">Instagram</a></p><p><stron
	g>Wo:</strong> Innstraße 2, 6020 Innsbruck (Verein Beziehungsweise Lernen)
	</p><p><strong>Wann:</strong> jeden Donnerstag von 12 – 13:30 Uhr</p><p><s
	trong>Kosten: </strong>9&nbsp;€ Wertschätzungsbeitrag für Speisen &amp; 1,
	5 € für Kaffee und 1 € für Tee</p><p>Quelle: <a href="https://beziehungswe
	ise-lernen.info/interkultureller-mittagstisch/" target="_blank">https://be
	ziehungsweise-lernen.info/interkultureller-mittagstisch/</a></p>
BEGIN:VALARM
ACTION:DISPLAY
DESCRIPTION:Interkultureller Mittagstisch (Innsbruck)
TRIGGER:-PT1H
END:VALARM
END:VEVENT
END:VCALENDAR
