BEGIN:VCALENDAR
VERSION:2.0
CALSCALE:GREGORIAN
PRODID:adamgibbons/ics
METHOD:PUBLISH
X-PUBLISHED-TTL:PT1H
BEGIN:VEVENT
UID:2196@sprachtreffen.de
SUMMARY:Italo Calvino - If On A Winter Night A Traveler
DTSTAMP:20260423T083951Z
DTSTART:20260416T170000Z
DTEND:20260416T190000Z
DESCRIPTION:For April we are heading into the meta with Italo Calvino:\n\nI
	talo Calvino\n[https://www.buch7.de/suche?search=Italo+Calvino&commit=Such
	en&partner=vale] –\nIf On A Winter Night A Traveler\n[https://www.buch7.de
	/suche?search=If+On+A+Winter+Night+A+Traveler&commit=Suchen&partner=vale]\
	n\nhttps://www.goodreads.com/book/show/374233.If_on_a_Winter_s_Night_a_Tra
	veler\n[https://www.goodreads.com/book/show/374233.If_on_a_Winter_s_Night_
	a_Traveler]\n\n\n\nHeidelberg English Speaking Bookclub\n[https://rheinnec
	kar.events/@the_boisterous_bookclub]\n\nBasic premise: we read a book and 
	then we get together to talk about it.\n\nWe meet once a month and aim to 
	cover a whole variety of genres (as long as the\nbook is fiction\, under 3
	00 pages\, and generally accessible).\n\nWe are very open to suggestions f
	or future books.
URL:https://sprachtreffen.de/event/italo-calvino-if-on-a-winter-night-a-tra
	veler-1
GEO:49.4266;8.68896
LOCATION:Gilberts Goldener Adler - Handschuhsheimer Landstraße 96\, 69121\,
	 Heidelberg\, Germany
STATUS:CONFIRMED
CATEGORIES:Books,BW,englisch
X-ALT-DESC;FMTTYPE=text/html:<p>For April we are heading into the meta with
	 Italo Calvino:</p><p><a href="https://www.buch7.de/suche?search=Italo+Cal
	vino&amp;commit=Suchen&amp;partner=vale" target="_blank"><strong>Italo Cal
	vino</strong></a><strong> – </strong><a href="https://www.buch7.de/suche?s
	earch=If+On+A+Winter+Night+A+Traveler&amp;commit=Suchen&amp;partner=vale" 
	target="_blank"><strong>If On A Winter Night A Traveler</strong></a></p><p
	><a href="https://www.goodreads.com/book/show/374233.If_on_a_Winter_s_Nigh
	t_a_Traveler" target="_blank">https://www.goodreads.com/book/show/374233.I
	f_on_a_Winter_s_Night_a_Traveler</a></p><p></p><p><a href="https://rheinne
	ckar.events/@the_boisterous_bookclub" target="_blank">Heidelberg English S
	peaking Bookclub</a></p><p>Basic premise: we read a book and then we get t
	ogether to talk about it.</p><p>We meet once a month and aim to cover a wh
	ole variety of genres (as long as the book is fiction, under 300 pages, an
	d generally accessible).</p><p>We are very open to suggestions for future 
	books.</p>
BEGIN:VALARM
ACTION:DISPLAY
DESCRIPTION:Italo Calvino - If On A Winter Night A Traveler
TRIGGER:-PT1H
END:VALARM
END:VEVENT
END:VCALENDAR
