BEGIN:VCALENDAR
VERSION:2.0
CALSCALE:GREGORIAN
PRODID:adamgibbons/ics
METHOD:PUBLISH
X-PUBLISHED-TTL:PT1H
BEGIN:VEVENT
UID:1714@sprachtreffen.de
SUMMARY:Kitchen Talk / Sprachcafé mit CHANCE International (Berlin)
DTSTAMP:20260420T100405Z
DTSTART:20260212T130000Z
DTEND:20260212T143000Z
DESCRIPTION:WILLST DU DEUTSCH OHNE STRESS ÜBEN?\n\n\n\nSprachcafé mit CHANC
	E International sind gemütliche Treffen\, bei denen du ganz\nin deinem eig
	enen Tempo Deutsch sprechen\, neue Leute kennenlernen und dich\nwohlfühlen
	 kannst.\n\nTee\, Kaffee und lebendige Gespräche machen das Sprachenlernen
	 leicht und\nangenehm.\n\n\n\n\nORT & ZEIT:\n\n\n\nDonnerstag\, 14:00-15:3
	0 Uhr\n\nOsloer Str. 12\, Aufgang C\, 3. Etage\, 13359 Berlin\n\nTel.: 030
	/23 91 88 90\n\ninternational@chance-berlin.com\n\n\n\nWir wären dankbar\,
	 wenn Sie sich im Voraus anmelden würden!\n\nhttps://forms.gle/QoYP6paEPk9
	ZVBeC8 [https://forms.gle/QoYP6paEPk9ZVBeC8]
URL:https://sprachtreffen.de/event/kitchen-talk-sprachcafe-mit-chance-inter
	national-berlin-1
LOCATION:Chance International - Osloer Str. 12\, Aufgang C\, 3. Etage\, 133
	59 Berlin
STATUS:CONFIRMED
CATEGORIES:Berlin,deutsch,international,russisch,ukrainisch
X-ALT-DESC;FMTTYPE=text/html:<h2>Willst du Deutsch ohne Stress üben?</h2><p
	></p><p>Sprachcafé mit CHANCE International sind gemütliche Treffen, bei d
	enen du ganz in deinem eigenen Tempo Deutsch sprechen, neue Leute kennenle
	rnen und dich wohlfühlen kannst. </p><p>Tee, Kaffee und lebendige Gespräch
	e machen das Sprachenlernen leicht und angenehm.</p><p></p><h2>Ort &amp; Z
	eit:</h2><p></p><p>Donnerstag, 14:00-15:30 Uhr</p><p>Osloer Str. 12, Aufga
	ng C, 3. Etage, 13359 Berlin</p><p>Tel.: 030/23 91 88 90</p><p>internation
	al@chance-berlin.com</p><p></p><p><strong>Wir wären dankbar, wenn Sie sich
	 im Voraus anmelden würden!</strong> </p><p><a href="https://forms.gle/QoY
	P6paEPk9ZVBeC8" target="_blank">https://forms.gle/QoYP6paEPk9ZVBeC8</a></p
	>
BEGIN:VALARM
ACTION:DISPLAY
DESCRIPTION:Kitchen Talk / Sprachcafé mit CHANCE International (Berlin)
TRIGGER:-PT1H
END:VALARM
END:VEVENT
END:VCALENDAR
