BEGIN:VCALENDAR
VERSION:2.0
CALSCALE:GREGORIAN
PRODID:adamgibbons/ics
METHOD:PUBLISH
X-PUBLISHED-TTL:PT1H
BEGIN:VEVENT
UID:1531@sprachtreffen.de
SUMMARY:Sprachcafé PalaisPopulaire (Berlin)
DTSTAMP:20260420T114405Z
DTSTART:20260225T140000Z
DTEND:20260225T160000Z
DESCRIPTION:Sprachcafés sind Orte des Zusammenkommens – für Menschen\, die 
	ihr Deutsch üben\nund verbessern möchten oder die einfach Lust haben\, and
	ere Berliner*innen\nkennenzulernen.\n\nIm Rahmen der Filmserie OnView - Po
	wer können Besuchende am Sprachcafé im\nPalaisPopulaire teilnehmen. Jedes 
	Treffen widmet sich einem anderen Film aus der\nReihe und bietet die Mögli
	chkeit\, sich zu den vielfältigen Themen wie Macht\,\nKraft\, Stärke und K
	ontrolle auszutauschen. Das Treffen wird von Dóra Sági\,\nExpertin für Deu
	tsch im Mehrsprachigkeitskontext und ästhetische Sprachbildung\,\ngeleitet
	. Egal welchen Alters\, ob Neu- oder Altberlinerin – jeder ist beim\nSprac
	hcafé willkommen\, um bei einem Getränk über Kunst\, Gesellschaft und\nper
	sönliche Erlebnisse zu diskutieren.\n\nKostenfrei
URL:https://sprachtreffen.de/event/kostenfreies-sprachcafe-im-palaispopulai
	re-1
GEO:52.5171;13.3961
LOCATION:PalaisPopulaire - Unter den Linden 5\, Berlin\, Berlin\, 10117\, D
	eutschland
STATUS:CONFIRMED
CATEGORIES:Berlin,deutsch
X-ALT-DESC;FMTTYPE=text/html:<p>Sprachcafés sind Orte des Zusammenkommens –
	 für Menschen, die ihr Deutsch üben und verbessern möchten oder die einfac
	h Lust haben, andere Berliner*innen kennenzulernen.</p><p>Im Rahmen der Fi
	lmserie <em>OnView - Power</em> können Besuchende am Sprachcafé im PalaisP
	opulaire teilnehmen. Jedes Treffen widmet sich einem anderen Film aus der 
	Reihe und bietet die Möglichkeit, sich zu den vielfältigen Themen wie Mach
	t, Kraft, Stärke und Kontrolle auszutauschen.&nbsp;Das Treffen wird von Dó
	ra Sági, Expertin für Deutsch im Mehrsprachigkeitskontext und ästhetische 
	Sprachbildung, geleitet. Egal welchen Alters, ob Neu- oder Altberliner<em>
	in – jede</em>r ist beim Sprachcafé willkommen, um bei einem Getränk über 
	Kunst, Gesellschaft und persönliche Erlebnisse zu diskutieren.</p><p>Koste
	nfrei</p>
BEGIN:VALARM
ACTION:DISPLAY
DESCRIPTION:Sprachcafé PalaisPopulaire (Berlin)
TRIGGER:-PT1H
END:VALARM
END:VEVENT
END:VCALENDAR
