BEGIN:VCALENDAR
VERSION:2.0
CALSCALE:GREGORIAN
PRODID:adamgibbons/ics
METHOD:PUBLISH
X-PUBLISHED-TTL:PT1H
BEGIN:VEVENT
UID:1530@sprachtreffen.de
SUMMARY:Kostenfreies Sprachcafé im PalaisPopulaire
DTSTAMP:20260420T134148Z
DTSTART:20260114T140000Z
DTEND:20260114T160000Z
DESCRIPTION:Im Rahmen der aktuellen Ausstellung Make a travel deep of your 
	inside\, and don’t\nforget me to take können Besuchende am monatlichen Spr
	achcafé teilnehmen. Jedes\nTreffen widmet sich einem Kunstwerk aus der Sch
	au und bietet die Möglichkeit\,\nsich zu Themen wie Migration\, Sprache un
	d geteilte Erfahrungen\nauszutauschen. Das Treffen wird von Dóra Sági\, Ex
	pertin für Deutsch im\nMehrsprachigkeitskontext und ästhetische Sprachbild
	ung\, geleitet.\n\nEgal welchen Alters\, ob Neu- oder Altberliner*in – jed
	e*r ist beim Sprachcafé\nwillkommen\, um bei einem Getränk über Kunst\, Ge
	sellschaft und persönliche\nErlebnisse zu diskutieren.
URL:https://sprachtreffen.de/event/kostenfreies-sprachcafe-im-palaispopulai
	re
GEO:52.5171;13.3961
LOCATION:PalaisPopulaire - Unter den Linden 5\, Berlin\, Berlin\, 10117\, D
	eutschland
STATUS:CONFIRMED
CATEGORIES:Berlin,deutsch
X-ALT-DESC;FMTTYPE=text/html:<p>Im Rahmen der aktuellen Ausstellung <em>Mak
	e a travel deep of your inside, and don’t forget me to take</em> können Be
	suchende am monatlichen Sprachcafé teilnehmen. Jedes Treffen widmet sich e
	inem Kunstwerk aus der Schau und bietet die Möglichkeit, sich zu Themen wi
	e Migration, Sprache und geteilte Erfahrungen auszutauschen.&nbsp;Das Tref
	fen wird von Dóra Sági, Expertin für Deutsch im Mehrsprachigkeitskontext u
	nd ästhetische Sprachbildung, geleitet. </p><p>Egal welchen Alters, ob Neu
	- oder Altberliner*in – jede*r ist beim Sprachcafé willkommen, um bei eine
	m Getränk über Kunst, Gesellschaft und persönliche Erlebnisse zu diskutier
	en.</p>
BEGIN:VALARM
ACTION:DISPLAY
DESCRIPTION:Kostenfreies Sprachcafé im PalaisPopulaire
TRIGGER:-PT1H
END:VALARM
END:VEVENT
END:VCALENDAR
