BEGIN:VCALENDAR
VERSION:2.0
CALSCALE:GREGORIAN
PRODID:adamgibbons/ics
METHOD:PUBLISH
X-PUBLISHED-TTL:PT1H
BEGIN:VEVENT
UID:2131@sprachtreffen.de
SUMMARY:Kreativ-Café: Kreativ sein und Deutsch lernen
DTSTAMP:20260420T114518Z
DTSTART:20260401T110000Z
DTEND:20260401T130000Z
DESCRIPTION:Das Kreativ-Café ist immer dienstags und mittwochs von 13.00-15
	.00 Uhr im\nCafé-IBIS. Das Café-IBIS ist in der Klävemannstr. 16 in Oldenb
	urg. Direkt am\nBahnhof.\n\nWir sprechen zusammen Deutsch. Und wir spielen
	\, basteln\, bauen\, reparieren\,\nbacken\, sprechen\, lesen und vieles me
	hr. In Workshop-Gruppen.\n\nDu lernst neue Menschen kennen und kannst hier
	 Deutsch sprechen üben. Du kannst\nauch einen eigenen Workshop für andere 
	Menschen machen. Wir helfen dir dabei!\n\nDu kannst dich per E-Mail mitmac
	hen@ibis-ev.de [mitmachen@ibis-ev.de] oder per\nTelefon: +49 (0) 441 92 05
	82 82 anmelden.\n\nWir haben eine Warteliste. Wir rufen dich an\, wenn ein
	 Platz frei wird.\n\nDu kannst aussuchen\, ob du dienstags oder mittwochs 
	kommen möchtest.\n\nMehr Infos findest du auf unserer Homepage: Kreativ-Ca
	fé bei IBIS e.V.\n[https://ibis-ev.de/cafe-und-kultur/kreativ-cafe/]\n\nPS
	: Wir suchen auch immer Ehrenamtliche\, die Lust haben\, Deutschlernende i
	m\nKreativ-Café zu unterstützen. Infos auch hierzu findest du auf unserer 
	Homepage.
URL:https://sprachtreffen.de/event/kreativ-cafe-kreativ-sein-und-deutsch-le
	rnen-39
GEO:53.1425;8.22323
LOCATION:Kreativ-Café IBIS e.V. - Klävemannstr. 16\, Oldenburg\, Niedersach
	sen\, 26122\, Deutschland
STATUS:CONFIRMED
CATEGORIES:deutsch,Norden
X-ALT-DESC;FMTTYPE=text/html:<p>Das <strong>Kreativ-Café ist immer dienstag
	s und mittwochs von 13.00-15.00 Uhr im Café-IBIS</strong>. Das Café-IBIS i
	st in der Klävemannstr. 16 in Oldenburg. Direkt am Bahnhof.</p><p>Wir spre
	chen zusammen Deutsch.&nbsp;Und wir spielen, basteln, bauen,&nbsp;reparier
	en, backen, sprechen, lesen und vieles mehr. In Workshop-Gruppen.</p><p><s
	trong>Du lernst neue Menschen kennen und kannst hier Deutsch sprechen üben
	.</strong>&nbsp;Du kannst auch einen eigenen Workshop für andere Menschen 
	machen. Wir helfen&nbsp;dir dabei!</p><p><strong>Du kannst dich per E-Mail
	&nbsp;</strong><a href="mailto:mitmachen@ibis-ev.de" target="_blank"><stro
	ng>mitmachen@ibis-ev.de</strong></a><strong>&nbsp;oder per Telefon: +49 (0
	) 441 92 0582 82 anmelden.</strong></p><p>Wir haben eine Warteliste. Wir r
	ufen dich an, wenn ein Platz frei wird.</p><p>Du kannst aussuchen, ob du d
	ienstags oder mittwochs kommen möchtest.</p><p>Mehr Infos findest du auf u
	nserer Homepage: <a href="https://ibis-ev.de/cafe-und-kultur/kreativ-cafe/
	" target="_blank">Kreativ-Café bei IBIS e.V.</a></p><p>PS: Wir suchen auch
	 immer Ehrenamtliche, die Lust haben, Deutschlernende im Kreativ-Café zu u
	nterstützen. Infos auch hierzu findest du auf unserer Homepage.</p>
BEGIN:VALARM
ACTION:DISPLAY
DESCRIPTION:Kreativ-Café: Kreativ sein und Deutsch lernen
TRIGGER:-PT1H
END:VALARM
END:VEVENT
END:VCALENDAR
