BEGIN:VCALENDAR
VERSION:2.0
CALSCALE:GREGORIAN
PRODID:adamgibbons/ics
METHOD:PUBLISH
X-PUBLISHED-TTL:PT1H
BEGIN:VEVENT
UID:1942@sprachtreffen.de
SUMMARY:Kreativ-Café (Oldenburg)
DTSTAMP:20260420T150524Z
DTSTART:20260310T120000Z
DTEND:20260310T140000Z
DESCRIPTION:Das Kreativ-Café ist immer dienstags und mittwochs von 13.00 bi
	s 15.00 Uhr im\nCafé-IBIS. Das Café-IBIS ist in der Klävemannstr. 16 in Ol
	denburg. Direkt am\nBahnhof: Kreativ sein und Deutsch lernen.\n\nWir sprec
	hen zusammen Deutsch. Und wir spielen\, basteln\, bauen\, reparieren\,\nba
	cken\, sprechen\, lesen und vieles mehr. In Workshop-Gruppen.\n\nDu lernst
	 neue Menschen kennen und kannst hier Deutsch sprechen üben. Du kannst\nau
	ch einen eigenen Workshop für andere Menschen machen. Wir helfen dir dabei
	!\n\nDu kannst dich per E-Mail mitmachen@ibis-ev.de [mitmachen@ibis-ev.de]
	 oder per\nTelefon unter +49 (0) 441 92 0582 82 anmelden.\n\nWir haben ein
	e Warteliste. Wir rufen dich an\, wenn ein Platz frei wird.\n\nDu kannst a
	ussuchen\, ob du dienstags oder mittwochs kommen möchtest.\n\nMehr Informa
	tionen findest du auf unserer Homepage: Kreativ-Café bei IBIS e.V.\n[https
	://ibis-ev.de/cafe-und-kultur/kreativ-cafe/]\n\nPS: Wir suchen auch immer 
	Ehrenamtliche\, die Lust haben\, Deutschlernende im\nKreativ-Café zu unter
	stützen. Informationen auch hierzu findest du auf unserer\nHomepage.
URL:https://sprachtreffen.de/event/kreativ-cafe-oldenburg-6
GEO:53.1425;8.22323
LOCATION:Kreativ-Café IBIS e.V. - Klävemannstr. 16\, Oldenburg\, Niedersach
	sen\, 26122\, Deutschland
STATUS:CONFIRMED
CATEGORIES:deutsch,Norden
X-ALT-DESC;FMTTYPE=text/html:<p>Das <strong>Kreativ-Café ist immer dienstag
	s und mittwochs von 13.00 bis 15.00 Uhr im Café-IBIS</strong>. Das Café-IB
	IS ist in der Klävemannstr. 16 in Oldenburg. Direkt am Bahnhof: Kreativ se
	in und Deutsch lernen.</p><p>Wir sprechen zusammen Deutsch.&nbsp;Und wir s
	pielen, basteln, bauen,&nbsp;reparieren, backen, sprechen, lesen und viele
	s mehr. In Workshop-Gruppen.</p><p><strong>Du lernst neue Menschen kennen 
	und kannst hier Deutsch sprechen üben.</strong>&nbsp;Du kannst auch einen 
	eigenen Workshop für andere Menschen machen. Wir helfen&nbsp;dir dabei!</p
	><p><strong>Du kannst dich per E-Mail&nbsp;</strong><a href="mailto:mitmac
	hen@ibis-ev.de" target="_blank"><strong>mitmachen@ibis-ev.de</strong></a><
	strong>&nbsp;oder per Telefon unter +49 (0) 441 92 0582 82 anmelden.</stro
	ng></p><p>Wir haben eine Warteliste. Wir rufen dich an, wenn ein Platz fre
	i wird.</p><p>Du kannst aussuchen, ob du dienstags oder mittwochs kommen m
	öchtest.</p><p>Mehr Informationen findest du auf unserer Homepage: <a href
	="https://ibis-ev.de/cafe-und-kultur/kreativ-cafe/" target="_blank">Kreati
	v-Café bei IBIS e.V.</a></p><p>PS: Wir suchen auch immer Ehrenamtliche, di
	e Lust haben, Deutschlernende im Kreativ-Café zu unterstützen. Information
	en auch hierzu findest du auf unserer Homepage.</p>
BEGIN:VALARM
ACTION:DISPLAY
DESCRIPTION:Kreativ-Café (Oldenburg)
TRIGGER:-PT1H
END:VALARM
END:VEVENT
END:VCALENDAR
