BEGIN:VCALENDAR
VERSION:2.0
CALSCALE:GREGORIAN
PRODID:adamgibbons/ics
METHOD:PUBLISH
X-PUBLISHED-TTL:PT1H
BEGIN:VEVENT
UID:1746@sprachtreffen.de
SUMMARY:My Tender Matador - Pedro Lemebel (Heidelberg)
DTSTAMP:20260420T100633Z
DTSTART:20260305T180000Z
DTEND:20260305T200000Z
DESCRIPTION:For March\, we are going to treat ourselves to this queer love 
	story set in\nPinochets Chile.\n\nMy Tender Matador\n[https://www.buch7.de
	/suche?search=My+Tender+Matador+Pedro+Lemebel&commit=Suchen&partner=vale]\
	nby Pedro Lemebel\n[https://www.buch7.de/suche?search=Pedro+Lemebel&commit
	=Suchen&partner=vale].\n\nhttps://en.wikipedia.org/wiki/My_Tender_Matador\
	n[https://en.wikipedia.org/wiki/My_Tender_Matador]\n\n\n\nBasic premise: w
	e read a book and then we get together to talk about it.\n\nWe meet once a
	 month and aim to cover a whole variety of genres (as long as the\nbook is
	 fiction\, under 300 pages\, and generally accessible).\n\nWe are very ope
	n to suggestions for future books.\n\nOrganized by the Heidelberg English 
	Speaking Bookclub\n[https://rheinneckar.events/@the_boisterous_bookclub].
URL:https://sprachtreffen.de/event/my-tender-matador-pedro-lemebel-heidelbe
	rg
GEO:49.4143;8.68826
LOCATION:Gasthaus Kyffhäuser - Ladenburger Straße 38\, 69120\, Heidelberg\,
	 Germany
STATUS:CONFIRMED
CATEGORIES:Books,BW,englisch
X-ALT-DESC;FMTTYPE=text/html:<p>For March, we are going to treat ourselves 
	to this queer love story set in Pinochets Chile.<br><br><a href="https://w
	ww.buch7.de/suche?search=My+Tender+Matador+Pedro+Lemebel&amp;commit=Suchen
	&amp;partner=vale" target="_blank">My Tender Matador</a> by <a href="https
	://www.buch7.de/suche?search=Pedro+Lemebel&amp;commit=Suchen&amp;partner=v
	ale" target="_blank">Pedro Lemebel</a>.</p><p><a href="https://en.wikipedi
	a.org/wiki/My_Tender_Matador" target="_blank">https://en.wikipedia.org/wik
	i/My_Tender_Matador</a></p><p></p><p>Basic premise: we read a book and the
	n we get together to talk about it.</p><p>We meet once a month and aim to 
	cover a whole variety of genres (as long as the book is fiction, under 300
	 pages, and generally accessible).</p><p>We are very open to suggestions f
	or future books.</p><p>Organized by the <a href="https://rheinneckar.event
	s/@the_boisterous_bookclub" target="_blank">Heidelberg English Speaking Bo
	okclub</a>.</p>
BEGIN:VALARM
ACTION:DISPLAY
DESCRIPTION:My Tender Matador - Pedro Lemebel (Heidelberg)
TRIGGER:-PT1H
END:VALARM
END:VEVENT
END:VCALENDAR
