BEGIN:VCALENDAR
VERSION:2.0
CALSCALE:GREGORIAN
PRODID:adamgibbons/ics
METHOD:PUBLISH
X-PUBLISHED-TTL:PT1H
BEGIN:VEVENT
UID:2344@sprachtreffen.de
SUMMARY:Niederländisch-Stammtisch Duisburg (3. Freitag) I Nederlandse Stamt
	afel Duisburg (3de vrijdag)
DTSTAMP:20260420T102759Z
DTSTART:20260515T173000Z
DTEND:20260515T193000Z
DESCRIPTION:Beim Niederländisch-Stammtisch treffen sich Menschen\, die Spaß
	 an der\nniederländischen Sprache und Kultur haben — egal ob jung oder alt
	\, Frau oder\nMann\, Anfänger\, Fortgeschrittener oder Muttersprachler.\n\
	nJede/r\, der/die mitmachen möchte\, ist herzlich willkommen. Keine Anmeld
	ung\nerforderlich\, einfach vorbei schauen!\n\nWir treffen uns regelmäßig 
	an jedem dritten Freitag im Monat.\n\nBeginn ist jeweils um 19:30 Uhr.\n\n
	Unsere Treffen finden im "Café Museum" statt.\n\nEin Tisch ist dort reserv
	iert für den "Niederländisch Stammtisch".\n\nDas Café Museum [http://www.c
	afe-museum-du.de/] befindet sich auf der\nFriedrich-Wilhelm-Str. 64\, 4705
	1 Duisburg [https://goo.gl/maps/6KukO] im\nKantpark\nund ist in ca. 5 min 
	vom Hauptbahnhof Duisburg zu Fuß zu erreichen.\n\nUnsere Webseite: https:/
	/www.stamtafel.de/ [https://www.stamtafel.de/]
URL:https://sprachtreffen.de/event/niederlandisch-stammtisch-duisburg-3-fre
	itag-i-nederlandse-stamtafel-duisburg-3de-vrijdag-8
GEO:51.4303;6.76802
LOCATION:Café Museum (Restaurant Café\, Biergarten) - Friedrich-Wilhelm-Str
	. 64\, Duisburg\, NRW\, 47051\, Deutschland
STATUS:CONFIRMED
CATEGORIES:niederländisch,NRW
X-ALT-DESC;FMTTYPE=text/html:<p>Beim Niederländisch-Stammtisch treffen sich
	 Menschen, die Spaß an der niederländischen Sprache und Kultur haben — ega
	l ob jung oder alt, Frau oder Mann, Anfänger, Fortgeschrittener oder Mutte
	rsprachler.</p><p>Jede/r, der/die mitmachen möchte, ist herzlich willkomme
	n. Keine Anmeldung erforderlich, einfach vorbei schauen!</p><p>Wir treffen
	 uns regelmäßig an jedem <strong>dritten Freitag</strong> im Monat.</p><p>
	Beginn ist jeweils um 19:30&nbsp;Uhr.</p><p>Unsere Treffen finden im "<str
	ong>Café Museum</strong>" statt.</p><p>Ein Tisch ist dort reserviert für d
	en "Niederländisch Stammtisch".</p><p>Das <a href="http://www.cafe-museum-
	du.de/" target="_blank"><u>Café Museum</u></a> befindet sich auf der <a hr
	ef="https://goo.gl/maps/6KukO" target="_blank"><u>Friedrich-Wilhelm-Str. 6
	4, 47051 Duisburg</u></a> im Kantpark<br>und ist in ca. 5 min vom Hauptbah
	nhof Duisburg zu Fuß zu erreichen.</p><p>Unsere Webseite: <a href="https:/
	/www.stamtafel.de/" target="_blank">https://www.stamtafel.de/</a></p>
BEGIN:VALARM
ACTION:DISPLAY
DESCRIPTION:Niederländisch-Stammtisch Duisburg (3. Freitag) I Nederlandse S
	tamtafel Duisburg (3de vrijdag)
TRIGGER:-PT1H
END:VALARM
END:VEVENT
END:VCALENDAR
