BEGIN:VCALENDAR
VERSION:2.0
CALSCALE:GREGORIAN
PRODID:adamgibbons/ics
METHOD:PUBLISH
X-PUBLISHED-TTL:PT1H
BEGIN:VEVENT
UID:2201@sprachtreffen.de
SUMMARY:Niederländisch-Stammtisch Düsseldorf (1. Donnerstag) I Nederlandse 
	Stamtafel Düsseldorf (1te donderdag)
DTSTAMP:20260420T102741Z
DTSTART:20260507T170000Z
DTEND:20260507T193000Z
DESCRIPTION:Hallo allemaal\,\n\nWe spreken iedere eerste en derde donderdag
	 van de maand in Düsseldorf af om een\nbeetje te kletsen\, te drinken en t
	e eten.\n\nIedereen is welkom die Nederlands spreekt!\n\nWe komen samen va
	naf 19:00 uur in: Die Geissel\, Aachener Str. 58\, Düsseldorf.\n\nGroetjes
	 en tot dan\,\nAndrea
URL:https://sprachtreffen.de/event/niederlandisch-stammtisch-dusseldorf-1-d
	onnerstag-i-nederlandse-stamtafel-dusseldorf-1te-donderdag-5
GEO:51.2046;6.77351
LOCATION:Die Geissel - Aachener Str. 58\, 40223 Düsseldorf
STATUS:CONFIRMED
CATEGORIES:niederländisch,NRW
X-ALT-DESC;FMTTYPE=text/html:<p>Hallo allemaal,</p><p>We spreken iedere eer
	ste en derde donderdag van de maand in Düsseldorf af om een beetje te klet
	sen, te drinken en te eten.</p><p>Iedereen is welkom die Nederlands spreek
	t!</p><p>We komen samen vanaf 19:00 uur in: Die Geissel, Aachener Str. 58,
	 Düsseldorf.</p><p>Groetjes en tot dan,<br>Andrea</p>
BEGIN:VALARM
ACTION:DISPLAY
DESCRIPTION:Niederländisch-Stammtisch Düsseldorf (1. Donnerstag) I Nederlan
	dse Stamtafel Düsseldorf (1te donderdag)
TRIGGER:-PT1H
END:VALARM
END:VEVENT
END:VCALENDAR
