BEGIN:VCALENDAR
VERSION:2.0
CALSCALE:GREGORIAN
PRODID:adamgibbons/ics
METHOD:PUBLISH
X-PUBLISHED-TTL:PT1H
BEGIN:VEVENT
UID:2027@sprachtreffen.de
SUMMARY:Niederländisch-Stammtisch Köln (2. Donnerstag) I Nederlandse Stamta
	fel Köln (2de donderdag)
DTSTAMP:20260420T101447Z
DTSTART:20260409T171500Z
DTEND:20260409T193000Z
DESCRIPTION:Hallo allemaal\,\n\nWe spreken iedere tweede donderdag en vierd
	e dinsdag van de maand in Keulen af\nom een beetje te kletsen\, te drinken
	 en te eten.\n\nIedereen is welkom die Nederlands spreekt!\n\nWe spreken a
	f vanaf 19:15.\n\nOp dit moment zijn we op zoek naar een nieuwe locatie. D
	aarom kijk a.u.b. even\nhier voordat je komt of de locatie misschien veran
	derd is.\n\nGroetjes en tot dan\,\nAndrea
URL:https://sprachtreffen.de/event/niederlandisch-stammtisch-koln-2-donners
	tag-i-nederlandse-stamtafel-koln-2de-donderdag-4
GEO:50.9556;6.91822
LOCATION:Haus Tutt - Fridolinstraße 72\, 50825 Köln
STATUS:CONFIRMED
CATEGORIES:niederländisch,NRW
X-ALT-DESC;FMTTYPE=text/html:<p>Hallo allemaal,</p><p>We spreken iedere twe
	ede donderdag en vierde dinsdag van de maand in Keulen af om een beetje te
	 kletsen, te drinken en te eten.</p><p>Iedereen is welkom die Nederlands s
	preekt!</p><p>We spreken af vanaf 19:15.</p><p>Op dit moment zijn we op zo
	ek naar een nieuwe locatie. Daarom kijk a.u.b. even hier voordat je komt o
	f de locatie misschien veranderd is.</p><p>Groetjes en tot dan,<br>Andrea<
	/p>
BEGIN:VALARM
ACTION:DISPLAY
DESCRIPTION:Niederländisch-Stammtisch Köln (2. Donnerstag) I Nederlandse St
	amtafel Köln (2de donderdag)
TRIGGER:-PT1H
END:VALARM
END:VEVENT
END:VCALENDAR
