BEGIN:VCALENDAR
VERSION:2.0
CALSCALE:GREGORIAN
PRODID:adamgibbons/ics
METHOD:PUBLISH
X-PUBLISHED-TTL:PT1H
BEGIN:VEVENT
UID:2266@sprachtreffen.de
SUMMARY:Parliamo in italiano – Italienisches Sprachcafé
DTSTAMP:20260423T085327Z
DTSTART:20260414T150000Z
DTEND:20260414T160000Z
DESCRIPTION:Am zweiten Dienstag im Monat veranstaltet der Verein Deutsch-It
	alienischer\nFreundeskreis – DITA [https://dita-fk.de/] ein italienisches 
	Sprachcafé\n[https://dita-fk.de/#blog] in Mannheim.\n\nLust auf einen Aust
	ausch auf Italienisch an unserer Tavola rotonda?\nDann sind Sie hier herzl
	ich willkommen.\n\nIn entspannter Atmosphäre haben Sie Gelegenheit\, sich 
	auf Italienisch zu\nunterhalten und so Ihre Sprachkenntnisse aufzupolieren
	. Die Teilnahme ist für\nMitglieder des Deutsch-Italienischen Freundeskrei
	ses kostenlos. Gäste werden um\neine kleine Spende (4€) gebeten.\n\nWer mö
	chte\, ist danach zu unserem Stammtisch eingeladen\, nicht weit vom\nStadt
	haus in O4\,3 Ristorante New 42 (neben Boland’s und Buchhandlung Bender).\
	n\nAnmeldung (oder Absage) bis zum Vortag an info@dita-fk.de\n\nTreffpunkt
	 ist in der Zentralbibliothek\, Stadthaus N1\, erstes Stockwerk\, bei den\
	nZeitschriften und Magazinen.\n\nKontakt und weitere Informationen [https:
	//dita-fk.de/].
URL:https://sprachtreffen.de/event/parliamo-in-italiano-italienisches-sprac
	hcafe-8
GEO:49.4863;8.46556
LOCATION:Zentralbibliothek im Stadthaus - N 1\, Stadthaus\, Mannheim\, Bade
	n-Württemberg\, 68161\, Rhein-Neckar\, Deutschland
STATUS:CONFIRMED
CATEGORIES:BW,italienisch
X-ALT-DESC;FMTTYPE=text/html:<p>Am zweiten Dienstag im Monat veranstaltet d
	er Verein <a href="https://dita-fk.de/" target="_blank">Deutsch-Italienisc
	her Freundeskreis – DITA</a> ein <a href="https://dita-fk.de/#blog" target
	="_blank">italienisches Sprachcafé</a> in Mannheim.</p><p>Lust auf einen A
	ustausch auf Italienisch an unserer <em>Tavola rotonda</em>?<br>Dann sind 
	Sie hier herzlich willkommen.</p><p>In entspannter Atmosphäre haben Sie Ge
	legenheit, sich auf Italienisch zu unterhalten und so Ihre Sprachkenntniss
	e aufzupolieren. Die Teilnahme ist für Mitglieder des Deutsch-Italienische
	n Freundeskreises kostenlos. Gäste werden um eine kleine Spende (4€) gebet
	en.</p><p>Wer möchte, ist danach zu unserem Stammtisch eingeladen, nicht w
	eit vom Stadthaus in O4,3 Ristorante New 42 (neben Boland’s und Buchhandlu
	ng Bender).</p><p>Anmeldung (oder Absage) bis zum Vortag an info@dita-fk.d
	e</p><p>Treffpunkt ist in der Zentralbibliothek, Stadthaus N1, erstes Stoc
	kwerk, bei den Zeitschriften und Magazinen.</p><p><a href="https://dita-fk
	.de/" target="_blank">Kontakt und weitere Informationen</a>.</p>
BEGIN:VALARM
ACTION:DISPLAY
DESCRIPTION:Parliamo in italiano – Italienisches Sprachcafé
TRIGGER:-PT1H
END:VALARM
END:VEVENT
END:VCALENDAR
