BEGIN:VCALENDAR
VERSION:2.0
CALSCALE:GREGORIAN
PRODID:adamgibbons/ics
METHOD:PUBLISH
X-PUBLISHED-TTL:PT1H
BEGIN:VEVENT
UID:693@sprachtreffen.de
SUMMARY:Richard Powers: Bewilderment – book reading and talk
DTSTAMP:20260420T083731Z
DTSTART:20251009T170000Z
DTEND:20251009T190000Z
DESCRIPTION:For this month\, we are heading into space with a man and his 9
	 year old son to\nlook at relationships\, both between father and son and 
	between us and the earth.\n:\n\nThe Book: Richard Powers [https://amzn.to/
	46QyOLB]: Bewilderment\n[https://amzn.to/4o7dxo5]\nWikipedia [https://en.w
	ikipedia.org/wiki/Bewilderment]\, Goodreads\n[https://www.goodreads.com/bo
	ok/show/56404444]\, StoryGraph\n[https://app.thestorygraph.com/books/7f605
	86f-a3c9-41c2-8b45-9695db1452d2]\n\n\nEVENING MEETUP\n\nat Restaurant Da C
	laudia\, Mönchhofstraße 3\, 69120 Heidelberg\n\n \n\n\nHEIDELBERG ENGLISH 
	SPEAKING BOOKCLUB\n\nSee all events in our group\n[https://rheinneckar.eve
	nts/@the_boisterous_bookclub]\n\nSource on rheinneckar.events\n[https://rh
	einneckar.events/events/fb22e7a6-8a77-4a81-ae85-c9dc28ae884e]\n\nBasic pre
	mise: we read a book and then we get together to talk about it.\nWe meet o
	nce a month and aim to cover a whole variety of genres (as long as the\nbo
	ok is fiction\, under 300 pages\, and generally accessible).\nWe are very 
	open to suggestions for future books.\n\n—\n\nkeywords: book club\, readin
	g
URL:https://sprachtreffen.de/event/richard-powers-bewilderment-book-reading
	-and-talk
GEO:49.417;8.69159
LOCATION:Restaurant Da Claudia - Mönchhofstraße 3\, Heidelberg\, BW\, 69120
	\, Rhein-Neckar
STATUS:CONFIRMED
CATEGORIES:Books,BW,englisch
X-ALT-DESC;FMTTYPE=text/html:<p>For this month, we are heading into space w
	ith a man and his 9 year old son to look at relationships, both between fa
	ther and son and between us and the earth. :</p><p>The Book: <a href="http
	s://amzn.to/46QyOLB" target="_blank">Richard Powers</a>: <a href="https://
	amzn.to/4o7dxo5" target="_blank">Bewilderment</a><br><a href="https://en.w
	ikipedia.org/wiki/Bewilderment" target="_blank">Wikipedia</a>, <a href="ht
	tps://www.goodreads.com/book/show/56404444" target="_blank">Goodreads</a>,
	 <a href="https://app.thestorygraph.com/books/7f60586f-a3c9-41c2-8b45-9695
	db1452d2" target="_blank">StoryGraph</a></p><h3>Evening Meetup</h3><p>at R
	estaurant Da Claudia, Mönchhofstraße 3, 69120 Heidelberg</p><p>&nbsp;</p><
	h2>Heidelberg English Speaking Bookclub</h2><p>See all <a href="https://rh
	einneckar.events/@the_boisterous_bookclub" target="_blank">events in our g
	roup</a></p><p>Source on <a href="https://rheinneckar.events/events/fb22e7
	a6-8a77-4a81-ae85-c9dc28ae884e" target="_blank">rheinneckar.events</a></p>
	<p>Basic premise: we read a book and then we get together to talk about it
	.<br>We meet once a month and aim to cover a whole variety of genres (as l
	ong as the book is fiction, under 300 pages, and generally accessible).<br
	>We are very open to suggestions for future books.</p><p>—</p><p>keywords:
	 book club, reading</p>
BEGIN:VALARM
ACTION:DISPLAY
DESCRIPTION:Richard Powers: Bewilderment – book reading and talk
TRIGGER:-PT1H
END:VALARM
END:VEVENT
END:VCALENDAR
