BEGIN:VCALENDAR
VERSION:2.0
CALSCALE:GREGORIAN
PRODID:adamgibbons/ics
METHOD:PUBLISH
X-PUBLISHED-TTL:PT1H
BEGIN:VEVENT
UID:1903@sprachtreffen.de
SUMMARY:Sprach Café (Berlin)
DTSTAMP:20260420T134012Z
DTSTART:20260305T150000Z
DTEND:20260305T163000Z
DESCRIPTION:Willst du dein Deutsch verbessern? oder neue Kulturen und Mensc
	hen kennenlernen?\n\nKommt einfach vorbei (:\n\nKostenlos!\n\n\n\nOrganisa
	tion: https://www.stadtteilzentrum-steglitz.de/\n[https://www.stadtteilzen
	trum-steglitz.de/]
URL:https://sprachtreffen.de/event/sprach-cafe-berlin-5
LOCATION:Gutshaus Lichterfelde - Hindenburgdamm 28\, Berlin\, Berlin\, 1220
	3\, Deutschland
STATUS:CONFIRMED
CATEGORIES:Berlin,deutsch
X-ALT-DESC;FMTTYPE=text/html:<p>Willst du dein Deutsch verbessern? oder neu
	e Kulturen und Menschen kennenlernen?</p><p>Kommt einfach vorbei (:</p><p>
	Kostenlos!</p><p></p><p>Organisation: <a href="https://www.stadtteilzentru
	m-steglitz.de/" target="_blank">https://www.stadtteilzentrum-steglitz.de/<
	/a></p>
BEGIN:VALARM
ACTION:DISPLAY
DESCRIPTION:Sprach Café (Berlin)
TRIGGER:-PT1H
END:VALARM
END:VEVENT
END:VCALENDAR
