BEGIN:VCALENDAR
VERSION:2.0
CALSCALE:GREGORIAN
PRODID:adamgibbons/ics
METHOD:PUBLISH
X-PUBLISHED-TTL:PT1H
BEGIN:VEVENT
UID:2236@sprachtreffen.de
SUMMARY:Sprach-Café | Deutsch Konversation A2-B1 (Wiener Neustadt)
DTSTAMP:20260420T100558Z
DTSTART:20260414T090000Z
DTEND:20260414T103000Z
DESCRIPTION:Das Sprachcafé findet regelmäßig im Wohnzimmer der Bibliothek s
	tatt. Bei jedem\nTermin gibt es ein Thema\, über das gesprochen wird. Dabe
	i wird Wissen vermittelt\nund Sie können Ihre Deutschkenntnisse in einer a
	ngenehmen Runde verbessern.\n\nDas Angebot richtet sich an Personen mit Sp
	rachniveau A2 bis B1 und ist ohne\nAnmeldung. Sie können einfach teilnehme
	n und mitmachen. Termine können sich\nkurzfristig ändern.\n\nWir freuen un
	s auf spannende Gespräche und nette Begegnungen!\n\nOrt: Wohnzimmer der Bi
	bliothek im Zentrum\, Schlögelgasse\, 22–26\, Wiener\nNeustadt\, Niederöst
	erreich\, 2700\, Österreich\n\nQuelle und Veranstalter: Bibliothek im Zent
	rum\n[https://www.fhwn.ac.at/hochschule/infrastruktur/bibliothek/bibliothe
	k-im-zentrum]\,\nVeranstaltungskalender [https://events.bibliothekimzentru
	m.at/]
URL:https://sprachtreffen.de/event/sprach-cafe-or-deutsch-konversation-a2-b
	1-wiener-neustadt-8
LOCATION:Bibliothek im Zentrum - Schlögelgasse\, 22–26\, Wiener Neustadt\, 
	Niederösterreich\, 2700\, Österreich
STATUS:CONFIRMED
CATEGORIES:deutsch,Österreich
X-ALT-DESC;FMTTYPE=text/html:<p> Das Sprachcafé findet regelmäßig im Wohnzi
	mmer der Bibliothek statt. Bei jedem Termin gibt es ein Thema, über das ge
	sprochen wird. Dabei wird Wissen vermittelt und Sie können Ihre Deutschken
	ntnisse in einer angenehmen Runde verbessern.</p><p>Das Angebot richtet si
	ch an Personen mit Sprachniveau A2 bis B1 und ist ohne Anmeldung. Sie könn
	en einfach teilnehmen und mitmachen. Termine können sich kurzfristig änder
	n.</p><p>Wir freuen uns auf spannende Gespräche und nette Begegnungen!</p>
	<p>Ort: Wohnzimmer der Bibliothek im Zentrum, Schlögelgasse, 22–26, Wiener
	 Neustadt, Niederösterreich, 2700, Österreich</p><p>Quelle und Veranstalte
	r: <a href="https://www.fhwn.ac.at/hochschule/infrastruktur/bibliothek/bib
	liothek-im-zentrum" target="_blank">Bibliothek im Zentrum</a>, <a href="ht
	tps://events.bibliothekimzentrum.at/" target="_blank">Veranstaltungskalend
	er</a></p>
BEGIN:VALARM
ACTION:DISPLAY
DESCRIPTION:Sprach-Café | Deutsch Konversation A2-B1 (Wiener Neustadt)
TRIGGER:-PT1H
END:VALARM
END:VEVENT
END:VCALENDAR
