BEGIN:VCALENDAR
VERSION:2.0
CALSCALE:GREGORIAN
PRODID:adamgibbons/ics
METHOD:PUBLISH
X-PUBLISHED-TTL:PT1H
BEGIN:VEVENT
UID:1351@sprachtreffen.de
SUMMARY:Sprach- und Begegnungscafé in Staaken
DTSTAMP:20260420T170508Z
DTSTART:20251223T150000Z
DTEND:20251223T170000Z
DESCRIPTION:In netter Atmosphäre die Nachbarinnen und Nachbarn kennen lerne
	n\, Deutsch\nverbessern und interessantes über verschiedene Länder und Kul
	turen erfahren.\nDarum geht`s beim Sprachcafé. Sie können einfach vorbeiko
	mmen.\n\nKostenlos und ohne Anmeldung\n\nJeden Dienstag\, von 16:00 bis 18
	:00 Uhr\n\n📍 in der Gemeinschaftsunterkunft Spandauer Straße\, Eingang Sti
	eglakeweg 19\,\n13591 Berlin\n\nWir haben eine WhatsApp-Gruppe\, falls das
	 Sprachcafé z.B. wegen Krankheit mal\nausfallen muss – hier werden unsere 
	regelmäßigen Teilnehmer:innen direkt\ninformiert:\n\nDu hast eine Frage? S
	chreib uns auf WhatsApp: 0159 040 061 92\noder eine E-Mail: benn-staaken@g
	wv-heerstrasse.de\n\nOrganisation: https://benn-staaken.de/2025/02/10/spra
	chcafe/\n[https://benn-staaken.de/2025/02/10/sprachcafe/]
URL:https://sprachtreffen.de/event/sprach-und-begegnungscafe-in-staaken-11
LOCATION:Gemeinschaftsunterkunft Spandauer Straße - Spandauer Straße 22\, B
	erlin\, Berlin\, 13591\, Deutschland
STATUS:CONFIRMED
CATEGORIES:Berlin,deutsch
X-ALT-DESC;FMTTYPE=text/html:<p>In netter Atmosphäre die Nachbarinnen und N
	achbarn kennen lernen, Deutsch verbessern und interessantes über verschied
	ene Länder und Kulturen erfahren. Darum geht`s beim Sprachcafé. Sie können
	 einfach vorbeikommen. </p><p><strong>Kostenlos und ohne Anmeldung</strong
	></p><p><strong>Jeden Dienstag, von 16:00 bis 18:00 Uhr</strong></p><p><st
	rong>📍 </strong>in der <strong>Gemeinschaftsunterkunft Spandauer Straße, E
	ingang Stieglakeweg 19, 13591 Berlin</strong></p><p>Wir haben eine WhatsAp
	p-Gruppe, falls das Sprachcafé z.B. wegen Krankheit mal ausfallen muss – h
	ier werden unsere regelmäßigen Teilnehmer:innen direkt informiert:</p><p>D
	u hast eine Frage? Schreib uns auf WhatsApp: 0159 040 061 92<br>oder eine 
	E-Mail:&nbsp;benn-staaken@gwv-heerstrasse.de</p><p>Organisation: <a href="
	https://benn-staaken.de/2025/02/10/sprachcafe/" target="_blank">https://be
	nn-staaken.de/2025/02/10/sprachcafe/</a></p>
BEGIN:VALARM
ACTION:DISPLAY
DESCRIPTION:Sprach- und Begegnungscafé in Staaken
TRIGGER:-PT1H
END:VALARM
END:VEVENT
END:VCALENDAR
