BEGIN:VCALENDAR
VERSION:2.0
CALSCALE:GREGORIAN
PRODID:adamgibbons/ics
METHOD:PUBLISH
X-PUBLISHED-TTL:PT1H
BEGIN:VEVENT
UID:2366@sprachtreffen.de
SUMMARY:Sprach- und Begegnungscafé in Staaken (Berlin)
DTSTAMP:20260423T120438Z
DTSTART:20260428T140000Z
DTEND:20260428T160000Z
DESCRIPTION:In netter Atmosphäre die Nachbarinnen und Nachbarn kennen lerne
	n\, Deutsch\nverbessern und interessantes über verschiedene Länder und Kul
	turen erfahren.\nDarum geht`s beim Sprachcafé. Sie können einfach vorbeiko
	mmen.\n\nKostenlos und ohne Anmeldung\n\nJeden Dienstag\, von 16:00 bis 18
	:00 Uhr\n\n📍 Südekumzeile 56\, 13591 Berlin\n\nWir haben eine WhatsApp-Gru
	ppe\, falls das Sprachcafé z.B. wegen Krankheit mal\nausfallen muss – hier
	 werden unsere regelmäßigen Teilnehmer:innen direkt\ninformiert:\n\nDu has
	t eine Frage? Schreib uns auf WhatsApp: 0176 15807544\n\nOrganisation: htt
	ps://benn-staaken.de/2025/02/10/sprachcafe/\n[https://benn-staaken.de/2025
	/02/10/sprachcafe/]
URL:https://sprachtreffen.de/event/sprach-und-begegnungscafe-in-staaken-ber
	lin-13
LOCATION:Gemeinschaftsunterkunft Spandauer Straße - Spandauer Straße 22\, B
	erlin\, Berlin\, 13591\, Deutschland
STATUS:CONFIRMED
CATEGORIES:Berlin,deutsch
X-ALT-DESC;FMTTYPE=text/html:<p>In netter Atmosphäre die Nachbarinnen und N
	achbarn kennen lernen, Deutsch verbessern und interessantes über verschied
	ene Länder und Kulturen erfahren. Darum geht`s beim Sprachcafé. Sie können
	 einfach vorbeikommen.</p><p><strong>Kostenlos und ohne Anmeldung</strong>
	</p><p><strong>Jeden Dienstag, von 16:00 bis 18:00 Uhr</strong></p><p><str
	ong>📍 </strong>Südekumzeile 56, 13591 Berlin</p><p>Wir haben eine WhatsApp
	-Gruppe, falls das Sprachcafé z.B. wegen Krankheit mal ausfallen muss – hi
	er werden unsere regelmäßigen Teilnehmer:innen direkt informiert:</p><p>Du
	 hast eine Frage? Schreib uns auf WhatsApp: 0176 15807544</p><p>Organisati
	on: <a href="https://benn-staaken.de/2025/02/10/sprachcafe/" target="_blan
	k">https://benn-staaken.de/2025/02/10/sprachcafe/</a></p>
BEGIN:VALARM
ACTION:DISPLAY
DESCRIPTION:Sprach- und Begegnungscafé in Staaken (Berlin)
TRIGGER:-PT1H
END:VALARM
END:VEVENT
END:VCALENDAR
