BEGIN:VCALENDAR
VERSION:2.0
CALSCALE:GREGORIAN
PRODID:adamgibbons/ics
METHOD:PUBLISH
X-PUBLISHED-TTL:PT1H
BEGIN:VEVENT
UID:2295@sprachtreffen.de
SUMMARY:Sprachcafé Aue-Bad Schlema
DTSTAMP:20260420T120749Z
DTSTART:20260421T120000Z
DTEND:20260421T133000Z
URL:https://sprachtreffen.de/event/sprachcafe-aue-bad-schlema-11
LOCATION:VHS Erzgebirgskreis - Rudolf-Breitscheid-Straße 28\, 08280 Aue-Bad
	 Schlema
STATUS:CONFIRMED
CATEGORIES:deutsch,Osten
BEGIN:VALARM
ACTION:DISPLAY
DESCRIPTION:Sprachcafé Aue-Bad Schlema
TRIGGER:-PT1H
END:VALARM
END:VEVENT
END:VCALENDAR
