BEGIN:VCALENDAR
VERSION:2.0
CALSCALE:GREGORIAN
PRODID:adamgibbons/ics
METHOD:PUBLISH
X-PUBLISHED-TTL:PT1H
BEGIN:VEVENT
UID:1844@sprachtreffen.de
SUMMARY:Sprachcafé (Bremerhaven)
DTSTAMP:20260420T153456Z
DTSTART:20260226T160000Z
DTEND:20260226T173000Z
DESCRIPTION:Andere Leute treffen und Deutsch sprechen: ein Angebot der Stad
	tbibliothek für\nalle\, die Deutsch lernen und im Austausch anwenden wolle
	n\, völlig unverbindlich\,\noffen und kostenlos. Das Treffen wird ehrenamt
	lich betreut.\n\nWir freuen uns auf Ihren Besuch.\nTeilnahme kostenlos\, k
	eine Anmeldung erforderlich.\n\nJeden Donnerstag\, 17:00–18:30 Uhr\nVerans
	taltungsort: Zentralbibliothek im Hanse Carré\, Bgm.-Smidt-Straße 10\n\nAn
	 Feiertagen findet kein Sprachcafé statt.\n\nQuellen: www.bremerhaven.de\n
	[https://www.bremerhaven.de/de/veranstaltungen/frauen-sprachcafe.168505.ht
	ml]\nund www.stadtbibliothek-bremerhaven.de\n[https://www.stadtbibliothek-
	bremerhaven.de/Veranstaltungen/Veranstaltungsreihen]
URL:https://sprachtreffen.de/event/sprachcafe-bremerhaven-4
GEO:53.5417;8.58049
LOCATION:Stadtbibliothek im Hanse Carré - Bürgermeister-Smidt-Str. 10\, Bre
	merhaven\, Bremen\, 27568\, Deutschland
STATUS:CONFIRMED
CATEGORIES:deutsch,Norden
X-ALT-DESC;FMTTYPE=text/html:<p>Andere Leute treffen und Deutsch sprechen: 
	ein Angebot der Stadtbibliothek für alle, die Deutsch lernen und im Austau
	sch anwenden wollen, völlig unverbindlich, offen und kostenlos. Das Treffe
	n wird ehrenamtlich betreut.</p><p>Wir freuen uns auf Ihren Besuch.<br>Tei
	lnahme kostenlos, keine Anmeldung erforderlich.</p><p>Jeden Donnerstag, 17
	:00–18:30 Uhr<br>Veranstaltungsort: Zentralbibliothek im Hanse Carré, Bgm.
	-Smidt-Straße 10</p><p>An Feiertagen findet kein Sprachcafé statt.</p><p>Q
	uellen: <a href="https://www.bremerhaven.de/de/veranstaltungen/frauen-spra
	chcafe.168505.html" target="_blank">www.bremerhaven.de</a> und <a href="ht
	tps://www.stadtbibliothek-bremerhaven.de/Veranstaltungen/Veranstaltungsrei
	hen" target="_blank">www.stadtbibliothek-bremerhaven.de</a></p>
BEGIN:VALARM
ACTION:DISPLAY
DESCRIPTION:Sprachcafé (Bremerhaven)
TRIGGER:-PT1H
END:VALARM
END:VEVENT
END:VCALENDAR
