BEGIN:VCALENDAR
VERSION:2.0
CALSCALE:GREGORIAN
PRODID:adamgibbons/ics
METHOD:PUBLISH
X-PUBLISHED-TTL:PT1H
BEGIN:VEVENT
UID:842@sprachtreffen.de
SUMMARY:Sprachcafé FAIR.wurzelt – Waschküche
DTSTAMP:20260420T132529Z
DTSTART:20251017T123000Z
DTEND:20251017T150000Z
DESCRIPTION:Treffen\, unterhalten und Deutsch lernen!\n\nJeden Freitag von 
	14:30 bis 17:00 Uhr\n\n * Wir laden alle ein – komm einfach vorbei!\n\n * 
	Wir lernen uns kennen und unterhalten uns über deine Themen.\n\n * Spielen
	 …\n\nKein Eintritt | Ohne Anmeldung\n\nOrt: Waschküche\, in der Feldstraß
	e 10\, 13355 Berlin.\n\nEine Veranstaltung vom Himmelbeet im Rahmen des Pr
	ojekts FAIR.wurzelt\n[https://www.himmelbeet.de/projekt/fair-wurzelt]
URL:https://sprachtreffen.de/event/sprachcafe-fairwurzelt-waschkuche
GEO:52.5382;13.3853
LOCATION:„Waschküche“ - Feldstraße 10\, Berlin\, Berlin\, 13355\, Wedding\,
	 Deutschland
STATUS:CONFIRMED
CATEGORIES:Berlin,deutsch
X-ALT-DESC;FMTTYPE=text/html:<p>Treffen, unterhalten und Deutsch lernen!</p
	><p>Jeden Freitag von 14:30 bis 17:00 Uhr</p><ul><li><p>Wir laden alle ein
	 – komm einfach vorbei!</p></li><li><p>Wir lernen uns kennen und unterhalt
	en uns über deine Themen.</p></li><li><p>Spielen …</p></li></ul><p>Kein Ei
	ntritt | Ohne Anmeldung</p><p>Ort: Waschküche, in der Feldstraße 10, 13355
	 Berlin.</p><p>Eine Veranstaltung vom Himmelbeet im Rahmen des Projekts<a 
	href="https://www.himmelbeet.de/projekt/fair-wurzelt" target="_blank"> FAI
	R.wurzelt</a></p>
BEGIN:VALARM
ACTION:DISPLAY
DESCRIPTION:Sprachcafé FAIR.wurzelt – Waschküche
TRIGGER:-PT1H
END:VALARM
END:VEVENT
END:VCALENDAR
