BEGIN:VCALENDAR
VERSION:2.0
CALSCALE:GREGORIAN
PRODID:adamgibbons/ics
METHOD:PUBLISH
X-PUBLISHED-TTL:PT1H
BEGIN:VEVENT
UID:838@sprachtreffen.de
SUMMARY:Sprachcafé für Frauen
DTSTAMP:20260420T102224Z
DTSTART:20251017T070000Z
DTEND:20251017T090000Z
DESCRIPTION:Sprachcafé für Frauen: Unser Sprachcafé ist eine schöne Gelegen
	heit\, Ihre\nSprachkenntnisse auszuprobieren und zu verbessern\, während S
	ie entspannt einen\nKaffee genießen und andere Frauen kennenlernen. Kinder
	 bis maximal 3 Jahre sind\nwillkommen. \n\nTermine sind freitags in der Ze
	it von 9 bis 11 Uhr im Jugendzentrum Alter\nBahnhof. Bitte melden Sie sich
	 bei Thato Heyne an unter: 0176 / 80 34 10 26\n\nQuelle: www.geesthacht.de
	\n[https://www.geesthacht.de/Leben-in-Geesthacht/Freizeit-Kultur/Veranstal
	tungskalender/index.php?ModID=11&object=tx%2C3777.4.1&La=1&NavID=3777.15&t
	ext=sprachcaf%E9&kat=1%2C&ort=3777.1&vo=&va=&kuo=1&sfodddrt=1&sfreg=1&sfor
	t=1]
URL:https://sprachtreffen.de/event/sprachcafe-fur-frauen-4
GEO:53.4343;10.3647
LOCATION:Jugendzentrum "Alter Bahnhof" - Bahnstraße 45\, 21502 Geesthacht\,
	 Deutschland
STATUS:CONFIRMED
CATEGORIES:deutsch,Norden
X-ALT-DESC;FMTTYPE=text/html:<p>Sprachcafé für Frauen: Unser Sprachcafé ist
	 eine schöne Gelegenheit, Ihre Sprachkenntnisse auszuprobieren und zu verb
	essern, während Sie entspannt einen Kaffee genießen und andere Frauen kenn
	enlernen. Kinder bis maximal 3 Jahre sind willkommen.&nbsp;</p><p>Termine 
	sind freitags in der Zeit von 9 bis 11 Uhr im Jugendzentrum Alter Bahnhof.
	 Bitte melden Sie sich bei Thato Heyne an unter: 0176 / 80 34 10 26</p><p>
	Quelle: <a href="https://www.geesthacht.de/Leben-in-Geesthacht/Freizeit-Ku
	ltur/Veranstaltungskalender/index.php?ModID=11&amp;object=tx%2C3777.4.1&am
	p;La=1&amp;NavID=3777.15&amp;text=sprachcaf%E9&amp;kat=1%2C&amp;ort=3777.1
	&amp;vo=&amp;va=&amp;kuo=1&amp;sfodddrt=1&amp;sfreg=1&amp;sfort=1" target=
	"_blank">www.geesthacht.de</a></p>
BEGIN:VALARM
ACTION:DISPLAY
DESCRIPTION:Sprachcafé für Frauen
TRIGGER:-PT1H
END:VALARM
END:VEVENT
END:VCALENDAR
