BEGIN:VCALENDAR
VERSION:2.0
CALSCALE:GREGORIAN
PRODID:adamgibbons/ics
METHOD:PUBLISH
X-PUBLISHED-TTL:PT1H
BEGIN:VEVENT
UID:2107@sprachtreffen.de
SUMMARY:Sprachcafé für Frauen (Geesthacht)
DTSTAMP:20260420T153414Z
DTSTART:20260330T070000Z
DTEND:20260330T090000Z
DESCRIPTION:Sprachcafé für Frauen: Unser Sprachcafé ist eine schöne Gelegen
	heit\, Ihre\nSprachkenntnisse auszuprobieren und zu verbessern\, während S
	ie entspannt einen\nKaffee genießen und andere Frauen kennenlernen. Kinder
	 bis maximal 3 Jahre sind\nwillkommen. \n\nTermine sind montags in der Zei
	t von 9 bis 11 Uhr im Atelier des\nFamilienzentrums Regenbogen. Bitte meld
	en Sie sich bei Thato Heyne an unter:\n0176 / 80 34 10 26\n\nQuelle: www.g
	eesthacht.de\n[https://www.geesthacht.de/Leben-in-Geesthacht/Freizeit-Kult
	ur/Veranstaltungskalender/index.php?ModID=11&object=tx%2C3777.4.1&La=1&Nav
	ID=3777.15&text=sprachcaf%E9&kat=1%2C&ort=3777.1&vo=&va=&kuo=1&sfodddrt=1&
	sfreg=1&sfort=1]
URL:https://sprachtreffen.de/event/sprachcafe-fur-frauen-geesthacht-9
GEO:53.4384;10.3641
LOCATION:Familienzentrum Regenbogen - Neuer Krug 31\, 21502 Geesthacht\, De
	utschland
STATUS:CONFIRMED
CATEGORIES:deutsch,Norden
X-ALT-DESC;FMTTYPE=text/html:<p>Sprachcafé für Frauen: Unser Sprachcafé ist
	 eine schöne Gelegenheit, Ihre Sprachkenntnisse auszuprobieren und zu verb
	essern, während Sie entspannt einen Kaffee genießen und andere Frauen kenn
	enlernen. Kinder bis maximal 3 Jahre sind willkommen.&nbsp;</p><p>Termine 
	sind montags in der Zeit von 9 bis 11 Uhr im&nbsp;Atelier des Familienzent
	rums Regenbogen. Bitte melden Sie sich bei Thato Heyne an unter: 0176 / 80
	 34 10 26</p><p>Quelle: <a href="https://www.geesthacht.de/Leben-in-Geesth
	acht/Freizeit-Kultur/Veranstaltungskalender/index.php?ModID=11&amp;object=
	tx%2C3777.4.1&amp;La=1&amp;NavID=3777.15&amp;text=sprachcaf%E9&amp;kat=1%2
	C&amp;ort=3777.1&amp;vo=&amp;va=&amp;kuo=1&amp;sfodddrt=1&amp;sfreg=1&amp;
	sfort=1" target="_blank">www.geesthacht.de</a></p>
BEGIN:VALARM
ACTION:DISPLAY
DESCRIPTION:Sprachcafé für Frauen (Geesthacht)
TRIGGER:-PT1H
END:VALARM
END:VEVENT
END:VCALENDAR
