BEGIN:VCALENDAR
VERSION:2.0
CALSCALE:GREGORIAN
PRODID:adamgibbons/ics
METHOD:PUBLISH
X-PUBLISHED-TTL:PT1H
BEGIN:VEVENT
UID:2080@sprachtreffen.de
SUMMARY:Sprachcafé für Senioren und Seniorinnen (Köln)
DTSTAMP:20260423T101745Z
DTSTART:20260416T083000Z
DTEND:20260416T100000Z
DESCRIPTION:Möchten Sie Ihr Deutsch in einer angenehmen und entspannten Atm
	osphäre üben?\n\nDann sind Sie herzlich zu unserem Sprachcafé für Senior*i
	nnen in Blumenberg\neingeladen!\n\nHier können Sie:\n\n * Deutsch mit ande
	ren Teilnehmenden sprechen und üben\;\n\n * neue Menschen kennenlernen\;\n
	\n * sich bei Kaffee oder Tee über verschiedene Themen unterhalten\;\n\n *
	 die Sprache ohne Stress und Druck anwenden\;\n\nWichtig: Das Sprachcafé i
	st kein Sprachkurs. Es ist ein lockeres Treffen zum\ngemeinsamen Sprechen 
	und Austauschen.\n\nFür Anmeldung und mehr Informationen:\n\nKateryna Cher
	nokur\n\n015204895607\n\nSeniorennetzwerk-Blumenberg@caritas-koeln.de
URL:https://sprachtreffen.de/event/sprachcafe-fur-senioren-und-seniorinnen-
	koln
GEO:51.0372;6.88938
LOCATION:Blu4ju - Langenbergstraße 144\, 50765 Köln
STATUS:CONFIRMED
CATEGORIES:deutsch,NRW
X-ALT-DESC;FMTTYPE=text/html:<p>Möchten Sie Ihr Deutsch in einer angenehmen
	 und entspannten Atmosphäre üben?</p><p>Dann sind Sie herzlich zu unserem 
	Sprachcafé für Senior*innen in Blumenberg eingeladen!</p><p>Hier können Si
	e:</p><ul><li><p>Deutsch mit anderen Teilnehmenden sprechen und üben;</p><
	/li><li><p>neue Menschen kennenlernen;</p></li><li><p>sich bei Kaffee oder
	 Tee über verschiedene Themen unterhalten;</p></li><li><p>die Sprache ohne
	 Stress und Druck anwenden;</p></li></ul><p>Wichtig: Das Sprachcafé ist ke
	in Sprachkurs. Es ist ein lockeres Treffen zum gemeinsamen Sprechen und Au
	stauschen.</p><p>Für Anmeldung und mehr Informationen:</p><p>Kateryna Cher
	nokur</p><p>015204895607</p><p>Seniorennetzwerk-Blumenberg@caritas-koeln.d
	e</p>
BEGIN:VALARM
ACTION:DISPLAY
DESCRIPTION:Sprachcafé für Senioren und Seniorinnen (Köln)
TRIGGER:-PT1H
END:VALARM
END:VEVENT
END:VCALENDAR
