BEGIN:VCALENDAR
VERSION:2.0
CALSCALE:GREGORIAN
PRODID:adamgibbons/ics
METHOD:PUBLISH
X-PUBLISHED-TTL:PT1H
BEGIN:VEVENT
UID:2229@sprachtreffen.de
SUMMARY:Sprachcafé im Pangea-Haus
DTSTAMP:20260420T102217Z
DTSTART:20260413T140000Z
DTEND:20260413T160000Z
DESCRIPTION:Entdeckt unser Sprachcafé im Pangea-Haus!\n\nMöchtet ihr eure S
	prachkenntnisse verbessern\, neue Leute kennenlernen und Spaß\nbeim Sprech
	en haben? Unser Sprachcafé bietet euch das ganzeJahr über die\nperfekte Ge
	legenheit dazu!\n\nGenießt lockere Gespräche\, interessante Themen und ein
	e freundliche Atmosphäre\,\nganz gleich\, ob ihr Anfänger oder Fortgeschri
	ttene seid.\nUnser Team sorgt dafür\, dass ihr euch wohlfühlen und eure Sp
	rachfähigkeiten\nspielerisch erweitern könnt.\n\n\n⏰📍Wann und wo?\nImmer m
	ontags\, 16-18 Uhr\, im Pangea Haus\, Trautenaustr.5\, 10717 Berlin\, U\nG
	üntzelstr.\n\n\nWenn ihr Fragen habt\, meldet euch unter kontakt@pangea-ha
	us.de\n\nKommt vorbei! Wir freuen uns auf euch!\n\n
URL:https://sprachtreffen.de/event/sprachcafe-im-pangea-haus-10
LOCATION:Pangea-Haus - Trautenaustr.5\, 10717 Berlin
STATUS:CONFIRMED
CATEGORIES:Berlin,deutsch,international
X-ALT-DESC;FMTTYPE=text/html:<p>Entdeckt unser Sprachcafé im Pangea-Haus!<b
	r><br>Möchtet ihr eure Sprachkenntnisse verbessern, neue Leute kennenlerne
	n und Spaß beim Sprechen haben? Unser Sprachcafé bietet euch das ganzeJahr
	 über die perfekte Gelegenheit dazu!</p><p>Genießt lockere Gespräche, inte
	ressante Themen und eine freundliche Atmosphäre, ganz gleich, ob ihr Anfän
	ger oder Fortgeschrittene seid.<br>Unser Team sorgt dafür, dass ihr euch w
	ohlfühlen und eure Sprachfähigkeiten spielerisch erweitern könnt.<br></p><
	p>⏰📍Wann und wo?<br>Immer montags, 16-18 Uhr, im Pangea Haus, Trautenaustr
	.5, 10717 Berlin, U Güntzelstr.<br></p><p>Wenn ihr Fragen habt, meldet euc
	h unter kontakt@pangea-haus.de</p><p>Kommt vorbei! Wir freuen uns auf euch
	!</p><p></p>
BEGIN:VALARM
ACTION:DISPLAY
DESCRIPTION:Sprachcafé im Pangea-Haus
TRIGGER:-PT1H
END:VALARM
END:VEVENT
END:VCALENDAR
