BEGIN:VCALENDAR
VERSION:2.0
CALSCALE:GREGORIAN
PRODID:adamgibbons/ics
METHOD:PUBLISH
X-PUBLISHED-TTL:PT1H
BEGIN:VEVENT
UID:2024@sprachtreffen.de
SUMMARY:Sprachcafé im Rudi (Berlin)
DTSTAMP:20260420T114241Z
DTSTART:20260319T130000Z
DTEND:20260319T143000Z
DESCRIPTION:Wir sind ein Sprachcafé (gestartet Dezember 2024) und wir sind 
	eine offene\nGruppe.\n\nWir treffen uns donnerstags um 14:00 Uhr im Rudi-N
	achbarschaftshaus.\n\nWenn du Deutsch üben willst oder Menschen beim Deuts
	chlernen unterstützen\nmöchtest\, dann schau gerne einfach mal vorbei!\n\n
	So kommst Du hin: https://rudi-nachbarschaftshaus.de/anfahrt/\n[https://ru
	di-nachbarschaftshaus.de/anfahrt/]\n\n###\n\nDas RuDi Nachbarschaftshaus b
	efindet sich im Stralauer Kiez in\nBerlin-Friedrichshain und ist seit dem 
	1. Januar 2021 in Trägerschaft des\nNachbarschaftshaus Urbanstraße e.V.\n\
	nDurch unsere sozialkulturelle Arbeit möchten wir ein solidarisches und\ng
	erechteres Zusammenleben im Stadtteil fördern.\n\nWir möchten Menschen unt
	erschiedlicher Hintergründe und Generationen\nzusammenbringen und gegensei
	tige Wertschätzung\, nachbarschaftliche Unterstützung\nund gesellschaftlic
	he Teilhabe stärken.\n\nOrganisation: https://nhu-ev.org/ [https://nhu-ev.
	org/rudi-nachbarschaftshaus/]
URL:https://sprachtreffen.de/event/sprachcafe-im-rudi-berlin-7
LOCATION:Rudi Nachbarschaftshaus - Modersohnstraße 55\, Berlin\, Deutschlan
	d\, 10245\, Berlin\, Deutschland
STATUS:CONFIRMED
CATEGORIES:Berlin,deutsch
X-ALT-DESC;FMTTYPE=text/html:<p>Wir sind ein Sprachcafé (gestartet Dezember
	 2024) und wir sind eine offene Gruppe.</p><p>Wir treffen uns donnerstags 
	um 14:00 Uhr im Rudi-Nachbarschaftshaus.</p><p>Wenn du Deutsch üben willst
	 oder Menschen beim Deutschlernen unterstützen möchtest, dann schau gerne 
	einfach mal vorbei!</p><p>So kommst Du hin: <a href="https://rudi-nachbars
	chaftshaus.de/anfahrt/" target="_blank">https://rudi-nachbarschaftshaus.de
	/anfahrt/</a></p><p>###</p><p>Das <strong>RuDi Nachbarschaftshaus</strong>
	 befindet sich im Stralauer Kiez in Berlin-Friedrichshain und ist seit dem
	 1. Januar 2021 in Trägerschaft des Nachbarschaftshaus Urbanstraße e.V.</p
	><p>Durch unsere sozialkulturelle Arbeit möchten wir ein solidarisches und
	 gerechteres Zusammenleben im Stadtteil fördern.</p><p>Wir möchten Mensche
	n unterschiedlicher Hintergründe und Generationen zusammenbringen und gege
	nseitige Wertschätzung, nachbarschaftliche Unterstützung und gesellschaftl
	iche Teilhabe stärken.</p><p>Organisation: <a href="https://nhu-ev.org/rud
	i-nachbarschaftshaus/" target="_blank">https://nhu-ev.org/</a></p>
BEGIN:VALARM
ACTION:DISPLAY
DESCRIPTION:Sprachcafé im Rudi (Berlin)
TRIGGER:-PT1H
END:VALARM
END:VEVENT
END:VCALENDAR
