BEGIN:VCALENDAR
VERSION:2.0
CALSCALE:GREGORIAN
PRODID:adamgibbons/ics
METHOD:PUBLISH
X-PUBLISHED-TTL:PT1H
BEGIN:VEVENT
UID:1914@sprachtreffen.de
SUMMARY:Sprachcafé in Lichtenrade (Berlin)
DTSTAMP:20260421T001745Z
DTSTART:20260327T100000Z
DTEND:20260327T113000Z
DESCRIPTION:In lockerer Atmosphäre Deutsch sprechen üben?\nIm Sprachcafé ne
	ue Menschen kennenlernen\, Erfahrungen austauschen\, Tee trinken\,\nDeutsc
	h sprechen und Spaß haben – ohne Angst vor Fehlern! Kommen Sie einfach\nvo
	rbei!\nImmer am zweiten und vierten Freitag im Monat von 11:00 bis 12:30 U
	hr.\n\nKostenlos | Ohne Anmeldung
URL:https://sprachtreffen.de/event/sprachcafe-in-lichtenrade-berlin-1
GEO:52.389;13.4166
LOCATION:Nachbarschaftszentrum Bornhagenweg - Bornhagenweg 43\, Berlin\, 12
	309\, Deutschland
STATUS:CONFIRMED
CATEGORIES:Berlin,deutsch
X-ALT-DESC;FMTTYPE=text/html:<p>In lockerer Atmosphäre Deutsch sprechen übe
	n?<br>Im Sprachcafé neue Menschen kennenlernen, Erfahrungen austauschen, T
	ee trinken, Deutsch sprechen und Spaß haben – ohne Angst vor Fehlern! Komm
	en Sie einfach vorbei!<br>Immer am zweiten und vierten Freitag im Monat vo
	n 11:00 bis 12:30 Uhr.</p><p>Kostenlos | Ohne Anmeldung</p>
BEGIN:VALARM
ACTION:DISPLAY
DESCRIPTION:Sprachcafé in Lichtenrade (Berlin)
TRIGGER:-PT1H
END:VALARM
END:VEVENT
END:VCALENDAR
