BEGIN:VCALENDAR
VERSION:2.0
CALSCALE:GREGORIAN
PRODID:adamgibbons/ics
METHOD:PUBLISH
X-PUBLISHED-TTL:PT1H
BEGIN:VEVENT
UID:2033@sprachtreffen.de
SUMMARY:Sprachcafé interkulturell
DTSTAMP:20260420T114034Z
DTSTART:20260319T160000Z
DTEND:20260319T170000Z
DESCRIPTION:Sprachcafé interkulturell\nDonnerstag 17.00-18.00 Uhr\nAngebot 
	für Frauen und FLINTA-Personen.\n(Wöchentlich mit Barbara)\n\nSprachcafé i
	nterkulturell\nThursday 5:00 PM – 6:00 PM\nEvent for Women and FLINTA-Pers
	ons.\n(Weekly with Barbara)\n\nQuelle: frauenzentrum-erfurt.de\n[https://w
	ww.frauenzentrum-erfurt.de/termine-fuer-frauen/meldung/default-4473903cf03
	b8cd5abb6785c8a7c291f/]
URL:https://sprachtreffen.de/event/sprachcafe-interkulturell-24
GEO:50.9789;11.0255
LOCATION:FrauenZentrum Erfurt - Pergamentergasse 36\, Erfurt\, Thüringen\, 
	99084\, Deutschland
STATUS:CONFIRMED
CATEGORIES:deutsch,international,Osten,Thüringen
X-ALT-DESC;FMTTYPE=text/html:<p>Sprachcafé interkulturell<br>Donnerstag 17.
	00-18.00 Uhr<br>Angebot für Frauen und FLINTA-Personen.<br>(Wöchentlich mi
	t Barbara)</p><p>Sprachcafé interkulturell<br>Thursday 5:00 PM – 6:00 PM<b
	r>Event for Women and FLINTA-Persons.<br>(Weekly with Barbara)</p><p>Quell
	e: <a href="https://www.frauenzentrum-erfurt.de/termine-fuer-frauen/meldun
	g/default-4473903cf03b8cd5abb6785c8a7c291f/" target="_blank">frauenzentrum
	-erfurt.de</a></p>
BEGIN:VALARM
ACTION:DISPLAY
DESCRIPTION:Sprachcafé interkulturell
TRIGGER:-PT1H
END:VALARM
END:VEVENT
END:VCALENDAR
