BEGIN:VCALENDAR
VERSION:2.0
CALSCALE:GREGORIAN
PRODID:adamgibbons/ics
METHOD:PUBLISH
X-PUBLISHED-TTL:PT1H
BEGIN:VEVENT
UID:2335@sprachtreffen.de
SUMMARY:Sprachcafé Mercator (Berlin)
DTSTAMP:20260420T084641Z
DTSTART:20260424T070000Z
DTEND:20260424T083000Z
DESCRIPTION:Sie lernen Deutsch und haben sogar schon einen Deutschkurs besu
	cht\, möchten aber\ngerne mehr sprechen üben?\n\nIm Sprachcafé haben Sie d
	ie Gelegenheit\, Ihre Deutschkenntnisse anzuwenden und\nzu verbessern!\n\n
	In ganz entspannter Atmosphäre sprechen wir über verschiedene Themen. Wir\
	nsprechen\, lernen spielerisch Grammatik\, lesen und schreiben.\n\nOhne An
	meldung\, einfach teilnehmen!\nKleine Kinder dürfen gerne mitgebracht werd
	en.\n\nFamilienzentrum an der Mercator-Grundschule\n\nEin Ort der Begegnun
	g\, Bewegung und Beratung\nDas Familienzentrum an der Mercator-Grundschule
	 bietet Ihnen und Ihrer Familie\nein vielfältiges Angebot.\n\nSo finden Si
	e uns\nDas Familienzentrum befindet sich auf dem Gelände der Mercator-Grun
	dschule in\nBerlin-Lichterfelde. Sie erreichen uns entweder über den Haupt
	eingang der Schule\noder durch unseren separaten Eingang – dieser liegt li
	nks neben der\nFeuerwehreinfahrt.\n\nhttps://www.instagram.com/familienzen
	trum_mercator/\n[https://www.instagram.com/familienzentrum_mercator/]\n\nO
	rganisation und bei Fragen:\nfamilienzentrum-mercator@stadtteilzentrum-ste
	glitz.org\n\nhttps://www.stadtteilzentrum-steglitz.de/\n[https://www.stadt
	teilzentrum-steglitz.de/]
URL:https://sprachtreffen.de/event/sprachcafe-mercator-berlin-12
LOCATION:Familienzentrum Mercator-Schule - Mercatorweg 8-12\, Berlin\, Berl
	in\, 12207\, Lichterfelde Süd\, Deutschland
STATUS:CONFIRMED
CATEGORIES:Berlin,deutsch
X-ALT-DESC;FMTTYPE=text/html:<p>Sie lernen Deutsch und haben sogar schon ei
	nen Deutschkurs besucht, möchten aber gerne mehr sprechen üben?</p><p>Im S
	prachcafé haben Sie die Gelegenheit, Ihre Deutschkenntnisse anzuwenden und
	 zu verbessern!</p><p>In ganz entspannter Atmosphäre sprechen wir über ver
	schiedene Themen. Wir sprechen, lernen spielerisch Grammatik, lesen und sc
	hreiben.</p><p>Ohne Anmeldung, einfach teilnehmen!<br>Kleine Kinder dürfen
	 gerne mitgebracht werden.</p><p><strong>Familienzentrum an der Mercator-G
	rundschule</strong></p><p>Ein Ort der Begegnung, Bewegung und Beratung<br>
	Das Familienzentrum an der Mercator-Grundschule bietet Ihnen und Ihrer Fam
	ilie ein vielfältiges Angebot.</p><p><strong>So finden Sie uns</strong><br
	>Das Familienzentrum befindet sich auf dem Gelände der Mercator-Grundschul
	e in Berlin-Lichterfelde. Sie erreichen uns entweder über den Haupteingang
	 der Schule oder durch unseren separaten Eingang – dieser liegt links nebe
	n der Feuerwehreinfahrt.</p><p><a href="https://www.instagram.com/familien
	zentrum_mercator/" target="_blank">https://www.instagram.com/familienzentr
	um_mercator/</a></p><p>Organisation und bei Fragen: familienzentrum-mercat
	or@stadtteilzentrum-steglitz.org </p><p><a href="https://www.stadtteilzent
	rum-steglitz.de/" target="_blank">https://www.stadtteilzentrum-steglitz.de
	/</a></p>
BEGIN:VALARM
ACTION:DISPLAY
DESCRIPTION:Sprachcafé Mercator (Berlin)
TRIGGER:-PT1H
END:VALARM
END:VEVENT
END:VCALENDAR
