BEGIN:VCALENDAR
VERSION:2.0
CALSCALE:GREGORIAN
PRODID:adamgibbons/ics
METHOD:PUBLISH
X-PUBLISHED-TTL:PT1H
BEGIN:VEVENT
UID:855@sprachtreffen.de
SUMMARY:Sprachcafé PalaisPopulaire
DTSTAMP:20260420T150357Z
DTSTART:20251217T140000Z
DTEND:20251217T160000Z
DESCRIPTION:Sprachcafés sind Orte des Zusammenkommens – für Menschen\, die 
	ihr Deutsch üben\nund verbessern möchten oder die einfach Lust haben\, and
	ere Berliner*innen\nkennenzulernen.\n\nIm Rahmen der aktuellen Ausstellung
	 „Make a travel deep of your inside\, and\ndon’t forget me to take\n[https
	://www.visitberlin.de/de/event/charmaine-poh-make-travel-deep-your-inside-
	and-dont-forget-me-take]“\nkönnen Besuchende am monatlichen Sprachcafé tei
	lnehmen. Jedes Treffen widmet\nsich einem Kunstwerk und ermöglicht es\, si
	ch zu Themen wie Migration\, Sprache\nund geteilten Erfahrungen auszutausc
	hen.\n\nDas Treffen wird von Dóra Sági\, Expertin für Deutsch im Mehrsprac
	higkeitskontext\nund ästhetische Sprachbildung\, geleitet. Egal welchen Al
	ters\, ob Neu- oder\nAltberlinerin – jeder ist beim Sprachcafé willkommen\
	, um bei einem heißen\nGetränk und Kuchen über Kunst\, Gesellschaft und pe
	rsönliche Erlebnisse zu\ndiskutieren.\n\nKostenfreies Sprachcafé\nAn jedem
	 dritten Mittwoch im Monat\, 15.10.\, 19.11.\, 17.12.2025\n\n15–17 Uhr.\n\
	nHier kannst Du Dich kostenlos für das Sprachcafé anmelden\n[https://www.t
	icketspopulaire.de/#/product/event/185].\n\nWeitere Informationen: palaisp
	opulaire.db.com/program/adults\n[https://palaispopulaire.db.com/program/ad
	ults]\n\n \n\nFree Sprachcafé\, in German\n\nOn the 3rd Wednesday of the m
	onth\, October 15\, November 19\, December 17\, 2025\n\nSprachcafés are pl
	aces for meeting others – for people who want to practice and\nimprove the
	ir German or simply feel like meeting other Berliners.\n\nAs part of the e
	xhibition Make a travel deep of your inside\, and don’t forget me\nto take
	\, visitors can participate in a Sprachcafé at PalaisPopulaire. Each\nmeet
	ing will focus on one of the exhibited artworks and offer the opportunity 
	to\nexchange thoughts on themes of migration\, community and language.\n\n
	The meetings will be led by Dóra Sági\, an expert in German in multilingua
	l\ncontexts and aesthetic language education. Whether young or old\, new o
	r\nlong-time Berliner – everyone is welcome at the language café to discus
	s art\,\nsociety\, and personal experiences over a drink.
URL:https://sprachtreffen.de/event/sprachcafe-palaispopulaire-3
GEO:52.5171;13.3961
LOCATION:PalaisPopulaire - Unter den Linden 5\, Berlin\, Berlin\, 10117\, D
	eutschland
STATUS:CONFIRMED
CATEGORIES:Berlin,deutsch
X-ALT-DESC;FMTTYPE=text/html:<p>Sprachcafés sind Orte des Zusammenkommens –
	 für Menschen, die ihr Deutsch üben und verbessern möchten oder die einfac
	h Lust haben, andere Berliner*innen kennenzulernen.</p><p>Im Rahmen der ak
	tuellen Ausstellung „<a href="https://www.visitberlin.de/de/event/charmain
	e-poh-make-travel-deep-your-inside-and-dont-forget-me-take" target="_blank
	">Make a travel deep of your inside, and don’t forget me to take</a>“ könn
	en Besuchende am monatlichen Sprachcafé teilnehmen. Jedes Treffen widmet s
	ich einem Kunstwerk und ermöglicht es, sich zu Themen wie Migration, Sprac
	he und geteilten Erfahrungen auszutauschen.</p><p>Das Treffen wird von Dór
	a Sági, Expertin für Deutsch im Mehrsprachigkeitskontext und ästhetische S
	prachbildung, geleitet. Egal welchen Alters, ob Neu- oder Altberliner<em>i
	n – jede</em>r ist beim Sprachcafé willkommen, um bei einem heißen Getränk
	 und Kuchen über Kunst, Gesellschaft und persönliche Erlebnisse zu diskuti
	eren.</p><p>Kostenfreies Sprachcafé<br>An jedem dritten Mittwoch im Monat,
	 15.10., 19.11., 17.12.2025</p><p>15–17 Uhr.</p><p>Hier kannst Du Dich kos
	tenlos für das <a href="https://www.ticketspopulaire.de/#/product/event/18
	5" target="_blank">Sprachcafé anmelden</a>.</p><p>Weitere Informationen: <
	a href="https://palaispopulaire.db.com/program/adults" target="_blank">pal
	aispopulaire.db.com/program/adults</a></p><p>&nbsp;</p><p>Free Sprachcafé,
	 in German</p><p>On the 3rd Wednesday of the month, October 15, November 1
	9, December 17, 2025</p><p>Sprachcafés are places for meeting others – for
	 people who want to practice and improve their German or simply feel like 
	meeting other Berliners.</p><p>As part of the exhibition Make a travel dee
	p of your inside, and don’t forget me to take, visitors can participate in
	 a Sprachcafé at PalaisPopulaire. Each meeting will focus on one of the ex
	hibited artworks and offer the opportunity to exchange thoughts on themes 
	of migration, community and language.</p><p>The meetings will be led by Dó
	ra Sági, an expert in German in multilingual contexts and aesthetic langua
	ge education. Whether young or old, new or long-time Berliner – everyone i
	s welcome at the language café to discuss art, society, and personal exper
	iences over a drink.</p>
BEGIN:VALARM
ACTION:DISPLAY
DESCRIPTION:Sprachcafé PalaisPopulaire
TRIGGER:-PT1H
END:VALARM
END:VEVENT
END:VCALENDAR
