BEGIN:VCALENDAR
VERSION:2.0
CALSCALE:GREGORIAN
PRODID:adamgibbons/ics
METHOD:PUBLISH
X-PUBLISHED-TTL:PT1H
BEGIN:VEVENT
UID:1122@sprachtreffen.de
SUMMARY:Titus Groan - Mervyn Peake
DTSTAMP:20260420T083710Z
DTSTART:20251121T093000Z
DTEND:20251121T113000Z
DESCRIPTION:This month we will visit Castle Gormenghast to read some old-sc
	hool gothic\nhorror:\n\nThe Book: Mervyn Peake [https://amzn.to/441HjTh]: 
	Titus Groan\n[https://amzn.to/3XoUmui]\nWikipedia [https://en.wikipedia.or
	g/wiki/Titus_Groan]\n\n\nMORNING MEETUP\n\nat Deutsch-Amerikanisches Insti
	tut\, Sofienstraße 12\, 69115\, Heidelberg.\n\n \n\n\nHEIDELBERG ENGLISH S
	PEAKING BOOKCLUB\n\nSee all events in our group\n[https://rheinneckar.even
	ts/@the_boisterous_bookclub]\n\nSource on rheinneckar.events\n[https://rhe
	inneckar.events/events/595932a1-ad68-4252-b305-80d8c3a0ca85]\n\nBasic prem
	ise: we read a book\, and then we get together to talk about it.\nWe meet 
	once a month and aim to cover a whole variety of genres (as long as the\nb
	ook is fiction\, under 300 pages\, and generally accessible).\nWe are very
	 open to suggestions for future books.\n\n—\n\nkeywords: book club\, readi
	ng
URL:https://sprachtreffen.de/event/titus-groan-mervyn-peake
GEO:49.4078;8.69391
LOCATION:Deutsch-Amerikanisches Institut DAI - Sofienstraße 12\, Heidelberg
	\, Baden-Württemberg\, 69115\, Rhein-Neckar\, Deutschland
STATUS:CONFIRMED
CATEGORIES:BW,Books,englisch
X-ALT-DESC;FMTTYPE=text/html:<p>This month we will visit Castle Gormenghast
	 to read some old-school gothic horror:</p><p>The Book: <a href="https://a
	mzn.to/441HjTh" target="_blank">Mervyn Peake</a>: <a href="https://amzn.to
	/3XoUmui" target="_blank">Titus Groan</a><br><a href="https://en.wikipedia
	.org/wiki/Titus_Groan" target="_blank">Wikipedia</a></p><h3>Morning Meetup
	</h3><p>at Deutsch-Amerikanisches Institut, Sofienstraße 12, 69115, Heidel
	berg.</p><p>&nbsp;</p><h2>Heidelberg English Speaking Bookclub</h2><p>See 
	all <a href="https://rheinneckar.events/@the_boisterous_bookclub" target="
	_blank">events in our group</a></p><p>Source on <a href="https://rheinneck
	ar.events/events/595932a1-ad68-4252-b305-80d8c3a0ca85" target="_blank">rhe
	inneckar.events</a></p><p>Basic premise: we read a book, and then we get t
	ogether to talk about it.<br>We meet once a month and aim to cover a whole
	 variety of genres (as long as the book is fiction, under 300 pages, and g
	enerally accessible).<br>We are very open to suggestions for future books.
	</p><p>—</p><p>keywords: book club, reading</p>
BEGIN:VALARM
ACTION:DISPLAY
DESCRIPTION:Titus Groan - Mervyn Peake
TRIGGER:-PT1H
END:VALARM
END:VEVENT
END:VCALENDAR
