BEGIN:VCALENDAR
VERSION:2.0
CALSCALE:GREGORIAN
PRODID:adamgibbons/ics
METHOD:PUBLISH
X-PUBLISHED-TTL:PT1H
BEGIN:VEVENT
UID:1745@sprachtreffen.de
SUMMARY:Two Old Women - Velma Wallis (Heidelberg)
DTSTAMP:20260423T101649Z
DTSTART:20260213T093000Z
DTEND:20260213T110000Z
DESCRIPTION:For February we are reading a book on Alaskan survival:\n\nTwo 
	Old Women\n[https://www.buch7.de/suche?search=Two+Old+Women+-+Velma+Wallis
	&commit=Suchen&partner=vale]\nby Velma Wallis\n[https://www.buch7.de/suche
	?search=Velma+Wallis&commit=Suchen&partner=vale]\n\nhttps://www.goodreads.
	com/book/show/127810\n[https://www.goodreads.com/book/show/127810]\n\nBasi
	c premise: we read a book and then we get together to talk about it.\n\nWe
	 meet once a month and aim to cover a whole variety of genres (as long as 
	the\nbook is fiction\, under 300 pages\, and generally accessible).\n\nWe 
	are very open to suggestions for future books.\n\nOrganized by the Heidelb
	erg English Speaking Bookclub\n[https://rheinneckar.events/@the_boisterous
	_bookclub].
URL:https://sprachtreffen.de/event/two-old-women-velma-wallis-heidelberg
GEO:49.4078;8.69391
LOCATION:Deutsch-Amerikanisches Institut DAI - Sofienstraße 12\, Heidelberg
	\, Baden-Württemberg\, 69115\, Rhein-Neckar\, Deutschland
STATUS:CONFIRMED
CATEGORIES:Books,BW,englisch
X-ALT-DESC;FMTTYPE=text/html:<p>For February we are reading a book on Alask
	an survival:</p><p><a href="https://www.buch7.de/suche?search=Two+Old+Wome
	n+-+Velma+Wallis&amp;commit=Suchen&amp;partner=vale" target="_blank">Two O
	ld Women</a> by <a href="https://www.buch7.de/suche?search=Velma+Wallis&am
	p;commit=Suchen&amp;partner=vale" target="_blank">Velma Wallis</a></p><p><
	a href="https://www.goodreads.com/book/show/127810" target="_blank">https:
	//www.goodreads.com/book/show/127810</a></p><p>Basic premise: we read a bo
	ok and then we get together to talk about it.</p><p>We meet once a month a
	nd aim to cover a whole variety of genres (as long as the book is fiction,
	 under 300 pages, and generally accessible).</p><p>We are very open to sug
	gestions for future books.</p><p>Organized by the <a href="https://rheinne
	ckar.events/@the_boisterous_bookclub" target="_blank">Heidelberg English S
	peaking Bookclub</a>.</p>
BEGIN:VALARM
ACTION:DISPLAY
DESCRIPTION:Two Old Women - Velma Wallis (Heidelberg)
TRIGGER:-PT1H
END:VALARM
END:VEVENT
END:VCALENDAR
