BEGIN:VCALENDAR
VERSION:2.0
CALSCALE:GREGORIAN
PRODID:adamgibbons/ics
METHOD:PUBLISH
X-PUBLISHED-TTL:PT1H
BEGIN:VEVENT
UID:2076@sprachtreffen.de
SUMMARY:Wir sprechen Deutsch (Heidelberg)
DTSTAMP:20260420T140719Z
DTSTART:20260325T183000Z
DTEND:20260325T203000Z
DESCRIPTION:Wir treffen uns im Café und sprechen Deutsch\, um diese Sprache
	 zu üben und zu\nverbessern. Es ist egal\, welches Sprachniveau du hast. K
	omme einfach vorbei und\nsage „Hallo“. Bis dann. 🙂\n\nWenn du ein Meetup-K
	onto hast\, kannst du hier angeben\, dass du teilnimmst\n[https://www.meet
	up.com/de-DE/deutsch-lernen-heidelberg/events/].\n\nDies ist eine Gruppe [
	https://www.meetup.com/de-DE/deutsch-lernen-heidelberg/]\nfür Deutschlerne
	r/-sprecher auf verschiedenen Niveaus. Wir treffen uns\nregelmäßig und spr
	echen Deutsch. Wir können ins deutsche Kino/Theater gehen und\ndarüber red
	en.\n\nQuelle: meetup.com [https://www.meetup.com/de-DE/deutsch-lernen-hei
	delberg/]
URL:https://sprachtreffen.de/event/wir-sprechen-deutsch-heidelberg-8
GEO:49.4085;8.69232
LOCATION:Café Rossi - Rohrbacherstr. 4\, Heidelberg\, Baden-Württemberg\, 6
	9117\, Rhein-Neckar\, Deutschland
STATUS:CONFIRMED
CATEGORIES:BW,deutsch
X-ALT-DESC;FMTTYPE=text/html:<p>Wir treffen uns im Café und sprechen Deutsc
	h, um diese Sprache zu üben und zu verbessern. Es ist egal, welches Sprach
	niveau du hast. Komme einfach vorbei und sage „Hallo“. Bis dann. 🙂</p><p>W
	enn du ein Meetup-Konto hast, kannst du <a href="https://www.meetup.com/de
	-DE/deutsch-lernen-heidelberg/events/" target="_blank">hier angeben, dass 
	du teilnimmst</a>.</p><p>Dies ist eine <a href="https://www.meetup.com/de-
	DE/deutsch-lernen-heidelberg/" target="_blank">Gruppe</a> für Deutschlerne
	r/-sprecher auf verschiedenen Niveaus. Wir treffen uns regelmäßig und spre
	chen Deutsch. Wir können ins deutsche Kino/Theater gehen und darüber reden
	.</p><p>Quelle: <a href="https://www.meetup.com/de-DE/deutsch-lernen-heide
	lberg/" target="_blank">meetup.com</a></p>
BEGIN:VALARM
ACTION:DISPLAY
DESCRIPTION:Wir sprechen Deutsch (Heidelberg)
TRIGGER:-PT1H
END:VALARM
END:VEVENT
END:VCALENDAR
