BEGIN:VCALENDAR
VERSION:2.0
CALSCALE:GREGORIAN
PRODID:adamgibbons/ics
METHOD:PUBLISH
X-PUBLISHED-TTL:PT1H
BEGIN:VEVENT
UID:2289@sprachtreffen.de
SUMMARY:Sprachcafé italienisch (Oberschleißheim)
DTSTAMP:20260420T082131Z
DTSTART:20260420T160000Z
DTEND:20260420T173000Z
URL:https://sprachtreffen.de/event/sprachcafe-italienisch-oberschleissheim-
	12
LOCATION:WIR Soziale Stadt - Am Stutenanger 6\, Oberschleißheim\, Bayern\, 
	85764\, Landkreis München\, Deutschland
STATUS:CONFIRMED
CATEGORIES:Bayern,italienisch,lerngruppe,sprachcafé
END:VEVENT
BEGIN:VEVENT
UID:2293@sprachtreffen.de
SUMMARY:Sprach-Café - Frauen sprechen Deutsch (Neuburg)
DTSTAMP:20260420T082131Z
DTSTART:20260421T070000Z
DTEND:20260421T090000Z
URL:https://sprachtreffen.de/event/sprach-cafe-frauen-sprechen-deutsch-neub
	urg-12
LOCATION:Gemeindezentrum der Christuskirche - Theresienstraße 187 1/2\, Neu
	burg an der Donau\, Bayern\, 86633\, Deutschland
STATUS:CONFIRMED
CATEGORIES:Bayern,deutsch
END:VEVENT
BEGIN:VEVENT
UID:2307@sprachtreffen.de
SUMMARY:Sprachcafé deutsch für Frauen (München)
DTSTAMP:20260420T082131Z
DTSTART:20260422T073000Z
DTEND:20260422T090000Z
URL:https://sprachtreffen.de/event/sprachcafe-deutsch-fur-frauen-munchen-12
LOCATION:Nachbarschaftstreff Südpark - Eleonore-Romberg-Straße 20\, München
	\, Bayern \, 81379\, Deutschland
STATUS:CONFIRMED
CATEGORIES:Bayern,deutsch
END:VEVENT
BEGIN:VEVENT
UID:2311@sprachtreffen.de
SUMMARY:Sprachcafé italienisch - Bewohnertreff "Unter den Arkaden" (München
	)
DTSTAMP:20260420T082131Z
DTSTART:20260422T120000Z
DTEND:20260422T133000Z
URL:https://sprachtreffen.de/event/sprachcafe-italienisch-bewohnertreff-unt
	er-den-arkaden-munchen-12
LOCATION:Euro-Trainings-Centre ETC gGmbH - Dientzenhoferstr. 68\, München\,
	 Bayern\, 80937\, Deutschland
STATUS:CONFIRMED
CATEGORIES:Bayern,italienisch
END:VEVENT
BEGIN:VEVENT
UID:2330@sprachtreffen.de
SUMMARY:Sprachcafé italienisch - Stiftung zusammen. tun.
DTSTAMP:20260420T082131Z
DTSTART:20260423T113000Z
DTEND:20260423T130000Z
URL:https://sprachtreffen.de/event/sprachcafe-italienisch-stiftung-zusammen
	-tun-26
LOCATION:Stiftung zusammen. tun. - Stanigplatz 8a\, München\, 80933\, Deuts
	chland
STATUS:CONFIRMED
CATEGORIES:Bayern,italienisch,lerngruppe,sprachcafé
END:VEVENT
BEGIN:VEVENT
UID:2323@sprachtreffen.de
SUMMARY:Sprachcafé italienisch - Kulturhaus Milbertshofen (München)
DTSTAMP:20260420T082131Z
DTSTART:20260423T153000Z
DTEND:20260423T170000Z
URL:https://sprachtreffen.de/event/sprachcafe-italienisch-kulturhaus-milber
	tshofen-munchen-12
LOCATION:Kulturhaus Milbertshofen - Curt-Metzger-Platz 1\, München\, Bayern
	\, 80809\, Bayern\, Deutschland
STATUS:CONFIRMED
CATEGORIES:Bayern,italienisch
END:VEVENT
BEGIN:VEVENT
UID:2334@sprachtreffen.de
SUMMARY:Sprachcafé Passau
DTSTAMP:20260420T082131Z
DTSTART:20260423T180000Z
DTEND:20260423T200000Z
URL:https://sprachtreffen.de/event/sprachcafe-passau-29
LOCATION:Rio Cultural Bar & Garden - Lederergasse\, 50\, Innstadt\, 94032 P
	assau\, Bayern\, Deutschland
STATUS:CONFIRMED
CATEGORIES:Bayern,international
END:VEVENT
BEGIN:VEVENT
UID:2340@sprachtreffen.de
SUMMARY:Sprachcafé Multilingual – Italienisch und Deutsch
DTSTAMP:20260420T082131Z
DTSTART:20260424T163000Z
DTEND:20260424T180000Z
URL:https://sprachtreffen.de/event/sprachcafe-multilingual-italienisch-und-
	deutsch-28
LOCATION:MÜNCHNER FREIWILLIGE WIR HELFEN FREIWILLIGENLADEN - Tumblingerstra
	sse 50\, München\, Bayern\, 80337\, Deutschland
STATUS:CONFIRMED
CATEGORIES:Bayern,italienisch
END:VEVENT
END:VCALENDAR
