BEGIN:VCALENDAR
VERSION:2.0
CALSCALE:GREGORIAN
PRODID:adamgibbons/ics
METHOD:PUBLISH
X-PUBLISHED-TTL:PT1H
BEGIN:VEVENT
UID:2292@sprachtreffen.de
SUMMARY:Sprach-Café | Deutsch Konversation A2-B1 (Wiener Neustadt)
DTSTAMP:20260420T113856Z
DTSTART:20260421T090000Z
DTEND:20260421T103000Z
URL:https://sprachtreffen.de/event/sprach-cafe-or-deutsch-konversation-a2-b
	1-wiener-neustadt-9
LOCATION:Bibliothek im Zentrum - Schlögelgasse\, 22–26\, Wiener Neustadt\, 
	Niederösterreich\, 2700\, Österreich
STATUS:CONFIRMED
CATEGORIES:deutsch,Österreich
END:VEVENT
END:VCALENDAR
