BEGIN:VCALENDAR
VERSION:2.0
CALSCALE:GREGORIAN
PRODID:adamgibbons/ics
METHOD:PUBLISH
X-PUBLISHED-TTL:PT1H
BEGIN:VEVENT
UID:2219@sprachtreffen.de
SUMMARY:Praatavond (Bochum)
DTSTAMP:20260420T095355Z
DTSTART:20260501T163000Z
URL:https://sprachtreffen.de/event/praatavond-bochum
GEO:51.4867;7.21407
LOCATION:Cafe Eden - Herner Str. 13\, 44787 Bochum
STATUS:CONFIRMED
CATEGORIES:niederländisch,NRW
END:VEVENT
END:VCALENDAR
