BEGIN:VCALENDAR
VERSION:2.0
CALSCALE:GREGORIAN
PRODID:adamgibbons/ics
METHOD:PUBLISH
X-PUBLISHED-TTL:PT1H
BEGIN:VEVENT
UID:2371@sprachtreffen.de
SUMMARY:"Quatschen üben": Sprachtreff für alle (Berlin)
DTSTAMP:20260423T102139Z
DTSTART:20260429T080000Z
DTEND:20260429T100000Z
URL:https://sprachtreffen.de/event/quatschen-uben-sprachtreff-fur-alle-berl
	in-13
LOCATION:Ev. Campus Daniel - Brandenburgische Straße 51\, Berlin\, 14199\, 
	Deutschland
STATUS:CONFIRMED
CATEGORIES:Berlin,deutsch
END:VEVENT
END:VCALENDAR
