BEGIN:VCALENDAR
VERSION:2.0
CALSCALE:GREGORIAN
PRODID:adamgibbons/ics
METHOD:PUBLISH
X-PUBLISHED-TTL:PT1H
BEGIN:VEVENT
UID:2313@sprachtreffen.de
SUMMARY:Sprachcafé für alle
DTSTAMP:20260420T123459Z
DTSTART:20260422T130000Z
DTEND:20260422T143000Z
URL:https://sprachtreffen.de/event/sprachcafe-fur-alle-28
LOCATION:Nachbarschaftszentrum Amtshaus Buchholz - Rosenthaler Weg 32\, Ber
	lin \, Berlin\, 13127\, Deutschland
STATUS:CONFIRMED
CATEGORIES:Berlin,deutsch
END:VEVENT
END:VCALENDAR
