BEGIN:VCALENDAR
VERSION:2.0
CALSCALE:GREGORIAN
PRODID:adamgibbons/ics
METHOD:PUBLISH
X-PUBLISHED-TTL:PT1H
BEGIN:VEVENT
UID:2328@sprachtreffen.de
SUMMARY:Sprachcafé Treffpunkt (Berlin)
DTSTAMP:20260420T132944Z
DTSTART:20260423T140000Z
DTEND:20260423T160000Z
URL:https://sprachtreffen.de/event/sprachcafe-treffpunkt-berlin-12
LOCATION:Ev. Kirchengemeinde Schmargendorf - Hohenzollerndamm 130a\, Berlin
	\, 14199\, Deutschland
STATUS:CONFIRMED
CATEGORIES:Berlin,deutsch
END:VEVENT
END:VCALENDAR
