BEGIN:VCALENDAR
VERSION:2.0
CALSCALE:GREGORIAN
PRODID:adamgibbons/ics
METHOD:PUBLISH
X-PUBLISHED-TTL:PT1H
BEGIN:VEVENT
UID:2340@sprachtreffen.de
SUMMARY:Sprachcafé Multilingual – Italienisch und Deutsch
DTSTAMP:20260420T082111Z
DTSTART:20260424T163000Z
DTEND:20260424T180000Z
URL:https://sprachtreffen.de/event/sprachcafe-multilingual-italienisch-und-
	deutsch-28
GEO:48.1241;11.5551
LOCATION:MÜNCHNER FREIWILLIGE WIR HELFEN FREIWILLIGENLADEN - Tumblingerstra
	sse 50\, München\, Bayern\, 80337\, Deutschland
STATUS:CONFIRMED
CATEGORIES:Bayern,italienisch
END:VEVENT
END:VCALENDAR
