BEGIN:VCALENDAR
VERSION:2.0
CALSCALE:GREGORIAN
PRODID:adamgibbons/ics
METHOD:PUBLISH
X-PUBLISHED-TTL:PT1H
BEGIN:VEVENT
UID:2311@sprachtreffen.de
SUMMARY:Sprachcafé italienisch - Bewohnertreff "Unter den Arkaden" (München
	)
DTSTAMP:20260420T083252Z
DTSTART:20260422T120000Z
DTEND:20260422T133000Z
URL:https://sprachtreffen.de/event/sprachcafe-italienisch-bewohnertreff-unt
	er-den-arkaden-munchen-12
GEO:48.2055;11.5769
LOCATION:Euro-Trainings-Centre ETC gGmbH - Dientzenhoferstr. 68\, München\,
	 Bayern\, 80937\, Deutschland
STATUS:CONFIRMED
CATEGORIES:Bayern,italienisch
END:VEVENT
END:VCALENDAR
