BEGIN:VCALENDAR
VERSION:2.0
CALSCALE:GREGORIAN
PRODID:adamgibbons/ics
METHOD:PUBLISH
X-PUBLISHED-TTL:PT1H
BEGIN:VEVENT
UID:2345@sprachtreffen.de
SUMMARY:Sprachcafe Wien
DTSTAMP:20260420T132838Z
DTSTART:20260426T150000Z
DTEND:20260426T170000Z
URL:https://sprachtreffen.de/event/sprachcafe-wien-30
GEO:48.1711;16.417
LOCATION:Junge Linke Wien - Hugogasse 8\, 1110 Wien
STATUS:CONFIRMED
CATEGORIES:deutsch,Österreich
END:VEVENT
END:VCALENDAR
